{"text_format":"1","workbook":"xlsx","n_sheets":13,"sheets":["Menu","TEFC 1200 Savings","TEFC 1200 Values","ODP 1200 Savings","ODP 1200 Values","TEFC 1800 Savings","TEFC 1800 Values","ODP 1800 Savings","ODP 1800 Values","TEFC 3600 Savings","TEFC 3600 Values","ODP 3600 Savings","ODP 3600 Values"],"not_rendered":{"charts":0,"images":7,"macros":1,"external_links":0,"defined_names":11,"comments":0,"pivot_tables":0},"unopened":[],"bounds":{"document_bytes":16777216,"sheet_cells":100000,"rows_first":2000,"rows_last":500,"rows_between":2000,"halvings":0,"cell_chars":16384,"cell_head_chars":4096},"cells_cut":0,"cells_raw":0,"read":"whole","date_system":"1900"}

{"sheet":"Menu","index":0,"n_rows":16,"n_cols":5,"rows_kept":16,"cut":false,"hidden":false,"merged":[[1,2,5,12]]}
[]
[null,null,"Motor Decisions MatterSM Simple Savings Chart \nSelect Motor Speed and Enclosure Type\n\n       TEFC, ODP    ·    1200, 1800, 3600 RPM    ·    Full-load Operation    ·    Nominal Efficiency                                 \n"]
[]
[]
[]
[]
[]
[null,null,null,null,"TEFC"]
[]
[]
[null,null,null,null,"ODP"]
[]
[]
[null,null,"Instructions: "]
[null,null,"1. Click one of the six buttons to select motor enclosure type (ODP or TEFC) and speed (1200, 1800, or 3600 RPM)."]
[null,null,"2. Insert your motor’s annual hours of operation and cost of electricity per kWh in the blue cells to generate the calculation."]

{"sheet":"TEFC 1200 Savings","index":1,"n_rows":40,"n_cols":15,"rows_kept":40,"cut":false,"hidden":false,"merged":[[38,0,38,16],[39,0,39,16],[40,0,41,15],[5,3,6,5],[5,7,5,9],[6,7,6,9],[26,14,26,15],[19,14,19,15],[20,14,20,15],[21,14,21,15],[34,14,34,15],[17,14,17,15],[18,14,18,15],[30,9,30,10],[26,9,26,10],[27,9,27,10],[28,4,28,5],[27,4,27,5],[25,4,25,5],[23,4,23,5],[24,4,24,5],[0,3,2,13],[8,12,8,13],[18,4,18,5],[19,4,19,5],[20,4,20,5],[17,9,17,10],[18,9,18,10],[3,13,7,15],[15,9,15,10],[15,4,15,5],[16,4,16,5],[12,4,12,5],[13,4,13,5],[14,4,14,5],[16,14,16,15],[16,9,16,10],[35,14,35,15],[36,9,36,10],[35,9,35,10],[32,14,32,15],[33,14,33,15],[30,14,30,15],[31,14,31,15],[32,9,32,10],[33,9,33,10],[34,9,34,10],[11,4,11,5],[25,14,25,15],[22,14,22,15],[19,9,19,10],[21,9,21,10],[22,9,22,10],[23,9,23,10],[24,9,24,10],[23,14,23,15],[24,14,24,15],[20,9,20,10],[21,4,21,5],[22,4,22,5],[14,14,14,15],[15,14,15,15],[14,9,14,10],[8,0,9,0],[8,2,8,3],[8,7,8,8],[10,4,10,5],[8,4,8,5],[9,4,9,5],[8,9,8,10],[9,9,9,10],[10,9,10,10],[11,9,11,10],[13,14,13,15],[8,14,8,15],[9,14,9,15],[10,14,10,15],[11,14,11,15],[12,14,12,15],[13,9,13,10],[12,9,12,10],[42,0,42,15],[17,4,17,5],[26,4,26,5],[36,4,36,5],[30,4,30,5],[31,4,31,5],[32,4,32,5],[33,4,33,5],[34,4,34,5],[35,4,35,5],[25,9,25,10],[28,9,28,10],[31,9,31,10],[36,14,36,15],[27,14,27,15],[28,14,28,15]]}
[null,null,null,"Estimated Annual Energy Savings from Upgrading Motor Efficiency\n  TEFC    ·    1200 RPM    ·    Full-load Operation    ·    Nominal Efficiency                                \nEstimated Annual Energy Cost = (horsepower x annual operating hours x cost of electricity x 0.746) / (efficiency)"]
[]
[]
[null,null,null,null,null,null,null,null,null,null,null,null,null,"Learn more about saving money through sound motor management.\nFor additional tools and resources, visit: www.motorsmatter.org."]
[]
[null,null,null,"Enter Appropriate Values for:",null,null,null,"Annual Operating Hours :",null,null,8000,null,"hrs per year"]
[null,null,null,null,null,null,null,"Cost of Electricity : ",null,null,10,null,"¢ per kWh"]
[]
["Motor Size (hp)",null,"Operating Costs",null,"Energy Savings",null,null,"Operating Costs",null,"Energy Savings",null,null,"Operating Costs",null,"Energy Savings"]
[null,null,"Pre-EPAct ","EPAct","Δ Pre-EPAct => EPAct",null,null,"EPAct","EISA","Δ EPAct => EISA",null,null,"Pre-EPAct ","EISA","Δ Pre-EPAct =>\nEISA"]
[1,null,{"$f":"($A11*0.746*$K$6*$K$7)/('TEFC 1200 Values'!E7)","v":813.52235550708838},{"$f":"($A11*0.746*$K$6*$K$7)/('TEFC 1200 Values'!F7)","v":746},{"$f":"C11-D11","v":67.522355507088378},null,null,{"$f":"($A11*0.746*$K$6*$K$7)/('TEFC 1200 Values'!F7)","v":746},{"$f":"($A11*0.746*$K$6*$K$7)/('TEFC 1200 Values'!G7)","v":723.39393939393938},{"$f":"H11-I11","v":22.606060606060623},null,null,{"$f":"($A11*0.746*$K$6*$K$7)/('TEFC 1200 Values'!E7)","v":813.52235550708838},{"$f":"($A11*0.746*$K$6*$K$7)/('TEFC 1200 Values'!G7)","v":723.39393939393938},{"$f":"M11-N11","v":90.128416113149001}]
[1.5,null,{"$f":"($A12*0.746*$K$6*$K$7)/('TEFC 1200 Values'!E8)","v":1149.165596919127},{"$f":"($A12*0.746*$K$6*$K$7)/('TEFC 1200 Values'!F8)","v":1047.0175438596491},{"$f":"C12-D12","v":102.14805305947789},null,null,{"$f":"($A12*0.746*$K$6*$K$7)/('TEFC 1200 Values'!F8)","v":1047.0175438596491},{"$f":"($A12*0.746*$K$6*$K$7)/('TEFC 1200 Values'!G8)","v":1023.0857142857143},23.931829573934806,null,null,{"$f":"($A12*0.746*$K$6*$K$7)/('TEFC 1200 Values'!E8)","v":1149.165596919127},{"$f":"($A12*0.746*$K$6*$K$7)/('TEFC 1200 Values'!G8)","v":1023.0857142857143},{"$f":"M12-N12","v":126.07988263341269}]
[2,null,{"$f":"($A13*0.746*$K$6*$K$7)/('TEFC 1200 Values'!E9)","v":1523.615011488384},{"$f":"($A13*0.746*$K$6*$K$7)/('TEFC 1200 Values'!F9)","v":1379.8843930635837},143.73061842480024,null,null,{"$f":"($A13*0.746*$K$6*$K$7)/('TEFC 1200 Values'!F9)","v":1379.8843930635837},{"$f":"($A13*0.746*$K$6*$K$7)/('TEFC 1200 Values'!G9)","v":1348.7005649717514},31.183828091832311,null,null,{"$f":"($A13*0.746*$K$6*$K$7)/('TEFC 1200 Values'!E9)","v":1523.615011488384},{"$f":"($A13*0.746*$K$6*$K$7)/('TEFC 1200 Values'!G9)","v":1348.7005649717514},{"$f":"M13-N13","v":174.91444651663255}]
[3,null,{"$f":"($A14*0.746*$K$6*$K$7)/('TEFC 1200 Values'!E10)","v":2227.9741164758589},{"$f":"($A14*0.746*$K$6*$K$7)/('TEFC 1200 Values'!F10)","v":2046.1714285714286},181.80268790443029,null,null,{"$f":"($A14*0.746*$K$6*$K$7)/('TEFC 1200 Values'!F10)","v":2046.1714285714286},{"$f":"($A14*0.746*$K$6*$K$7)/('TEFC 1200 Values'!G10)","v":2000.4469273743016},45.724501197126983,null,null,{"$f":"($A14*0.746*$K$6*$K$7)/('TEFC 1200 Values'!E10)","v":2227.9741164758589},{"$f":"($A14*0.746*$K$6*$K$7)/('TEFC 1200 Values'!G10)","v":2000.4469273743016},{"$f":"M14-N14","v":227.52718910155727}]
[5,null,{"$f":"($A15*0.746*$K$6*$K$7)/('TEFC 1200 Values'!E11)","v":3589.126774115949},{"$f":"($A15*0.746*$K$6*$K$7)/('TEFC 1200 Values'!F11)","v":3410.2857142857142},178.84105983023483,null,null,{"$f":"($A15*0.746*$K$6*$K$7)/('TEFC 1200 Values'!F11)","v":3410.2857142857142},{"$f":"($A15*0.746*$K$6*$K$7)/('TEFC 1200 Values'!G11)","v":3334.078212290503},76.20750199521126,null,null,{"$f":"($A15*0.746*$K$6*$K$7)/('TEFC 1200 Values'!E11)","v":3589.126774115949},{"$f":"($A15*0.746*$K$6*$K$7)/('TEFC 1200 Values'!G11)","v":3334.078212290503},255.04856182544609]
[7.5,null,{"$f":"($A16*0.746*$K$6*$K$7)/('TEFC 1200 Values'!E12)","v":5300.805305542397},{"$f":"($A16*0.746*$K$6*$K$7)/('TEFC 1200 Values'!F12)","v":5001.117318435754},299.68798710664305,null,null,{"$f":"($A16*0.746*$K$6*$K$7)/('TEFC 1200 Values'!F12)","v":5001.117318435754},{"$f":"($A16*0.746*$K$6*$K$7)/('TEFC 1200 Values'!G12)","v":4918.6813186813188},82.435999754435215,null,null,{"$f":"($A16*0.746*$K$6*$K$7)/('TEFC 1200 Values'!E12)","v":5300.805305542397},{"$f":"($A16*0.746*$K$6*$K$7)/('TEFC 1200 Values'!G12)","v":4918.6813186813188},382.12398686107827]
[10,null,{"$f":"($A17*0.746*$K$6*$K$7)/('TEFC 1200 Values'!E13)","v":7025.3090052972339},{"$f":"($A17*0.746*$K$6*$K$7)/('TEFC 1200 Values'!F13)","v":6668.1564245810059},357.15258071622793,null,null,{"$f":"($A17*0.746*$K$6*$K$7)/('TEFC 1200 Values'!F13)","v":6668.1564245810059},{"$f":"($A17*0.746*$K$6*$K$7)/('TEFC 1200 Values'!G13)","v":6558.2417582417584},109.91466633924756,null,null,{"$f":"($A17*0.746*$K$6*$K$7)/('TEFC 1200 Values'!E13)","v":7025.3090052972339},{"$f":"($A17*0.746*$K$6*$K$7)/('TEFC 1200 Values'!G13)","v":6558.2417582417584},467.06724705547549]
[15,null,{"$f":"($A18*0.746*$K$6*$K$7)/('TEFC 1200 Values'!E14)","v":10287.290278096989},{"$f":"($A18*0.746*$K$6*$K$7)/('TEFC 1200 Values'!F14)","v":9924.6119733924606},362.67830470452827,null,null,{"$f":"($A18*0.746*$K$6*$K$7)/('TEFC 1200 Values'!F14)","v":9924.6119733924606},{"$f":"($A18*0.746*$K$6*$K$7)/('TEFC 1200 Values'!G14)","v":9762.2682660850605},162.34370730740011,null,null,{"$f":"($A18*0.746*$K$6*$K$7)/('TEFC 1200 Values'!E14)","v":10287.290278096989},{"$f":"($A18*0.746*$K$6*$K$7)/('TEFC 1200 Values'!G14)","v":9762.2682660850605},525.02201201192838]
[20,null,{"$f":"($A19*0.746*$K$6*$K$7)/('TEFC 1200 Values'!E15)","v":13603.829496238888},{"$f":"($A19*0.746*$K$6*$K$7)/('TEFC 1200 Values'!F15)","v":13232.815964523281},371.01353171560731,null,null,{"$f":"($A19*0.746*$K$6*$K$7)/('TEFC 1200 Values'!F15)","v":13232.815964523281},{"$f":"($A19*0.746*$K$6*$K$7)/('TEFC 1200 Values'!G15)","v":13016.357688113412},216.45827640986863,null,null,{"$f":"($A19*0.746*$K$6*$K$7)/('TEFC 1200 Values'!E15)","v":13603.829496238888},{"$f":"($A19*0.746*$K$6*$K$7)/('TEFC 1200 Values'!G15)","v":13016.357688113412},587.47180812547595]
[25,null,{"$f":"($A20*0.746*$K$6*$K$7)/('TEFC 1200 Values'!E16)","v":16777.240526256606},{"$f":"($A20*0.746*$K$6*$K$7)/('TEFC 1200 Values'!F16)","v":16270.447110141766},506.79341611484051,null,null,{"$f":"($A20*0.746*$K$6*$K$7)/('TEFC 1200 Values'!F16)","v":16270.447110141766},{"$f":"($A20*0.746*$K$6*$K$7)/('TEFC 1200 Values'!G16)","v":16043.010752688173},227.43635745359279,null,null,{"$f":"($A20*0.746*$K$6*$K$7)/('TEFC 1200 Values'!E16)","v":16777.240526256606},{"$f":"($A20*0.746*$K$6*$K$7)/('TEFC 1200 Values'!G16)","v":16043.010752688173},734.2297735684333]
[30,null,{"$f":"($A21*0.746*$K$6*$K$7)/('TEFC 1200 Values'!E17)","v":19973.226238286479},{"$f":"($A21*0.746*$K$6*$K$7)/('TEFC 1200 Values'!F17)","v":19524.536532170121},448.68970611635814,null,null,{"$f":"($A21*0.746*$K$6*$K$7)/('TEFC 1200 Values'!F17)","v":19524.536532170121},{"$f":"($A21*0.746*$K$6*$K$7)/('TEFC 1200 Values'!G17)","v":19251.612903225807},272.92362894431426,null,null,{"$f":"($A21*0.746*$K$6*$K$7)/('TEFC 1200 Values'!E17)","v":19973.226238286479},{"$f":"($A21*0.746*$K$6*$K$7)/('TEFC 1200 Values'!G17)","v":19251.612903225807},721.6133350606724]
[40,null,{"$f":"($A22*0.746*$K$6*$K$7)/('TEFC 1200 Values'!E18)","v":26548.042704626336},{"$f":"($A22*0.746*$K$6*$K$7)/('TEFC 1200 Values'!F18)","v":25668.817204301075},879.22550032526124,null,null,{"$f":"($A22*0.746*$K$6*$K$7)/('TEFC 1200 Values'!F18)","v":25668.817204301075},{"$f":"($A22*0.746*$K$6*$K$7)/('TEFC 1200 Values'!G18)","v":25368.756641870354},300.06056243072089,null,null,{"$f":"($A22*0.746*$K$6*$K$7)/('TEFC 1200 Values'!E18)","v":26548.042704626336},{"$f":"($A22*0.746*$K$6*$K$7)/('TEFC 1200 Values'!G18)","v":25368.756641870354},1179.2860627559821]
[50,null,{"$f":"($A23*0.746*$K$6*$K$7)/('TEFC 1200 Values'!E19)","v":32928.713308320461},{"$f":"($A23*0.746*$K$6*$K$7)/('TEFC 1200 Values'!F19)","v":32086.021505376346},842.6918029441149,null,null,{"$f":"($A23*0.746*$K$6*$K$7)/('TEFC 1200 Values'!F19)","v":32086.021505376346},{"$f":"($A23*0.746*$K$6*$K$7)/('TEFC 1200 Values'!G19)","v":31710.945802337941},375.07570303840475,null,null,{"$f":"($A23*0.746*$K$6*$K$7)/('TEFC 1200 Values'!E19)","v":32928.713308320461},{"$f":"($A23*0.746*$K$6*$K$7)/('TEFC 1200 Values'!G19)","v":31710.945802337941},1217.7675059825197]
[60,null,{"$f":"($A24*0.746*$K$6*$K$7)/('TEFC 1200 Values'!E20)","v":39457.85123966942},{"$f":"($A24*0.746*$K$6*$K$7)/('TEFC 1200 Values'!F20)","v":38256.410256410258},1201.4409832591627,null,null,{"$f":"($A24*0.746*$K$6*$K$7)/('TEFC 1200 Values'!F20)","v":38256.410256410258},{"$f":"($A24*0.746*$K$6*$K$7)/('TEFC 1200 Values'!G20)","v":37892.063492063491},364.34676434676658,null,null,{"$f":"($A24*0.746*$K$6*$K$7)/('TEFC 1200 Values'!E20)","v":39457.85123966942},{"$f":"($A24*0.746*$K$6*$K$7)/('TEFC 1200 Values'!G20)","v":37892.063492063491},1565.7877476059293]
[75,null,{"$f":"($A25*0.746*$K$6*$K$7)/('TEFC 1200 Values'!E21)","v":48859.294836808207},{"$f":"($A25*0.746*$K$6*$K$7)/('TEFC 1200 Values'!F21)","v":47820.51282051282},1038.7820162953867,null,null,{"$f":"($A25*0.746*$K$6*$K$7)/('TEFC 1200 Values'!F21)","v":47820.51282051282},{"$f":"($A25*0.746*$K$6*$K$7)/('TEFC 1200 Values'!G21)","v":47365.079365079364},455.4334554334564,null,null,{"$f":"($A25*0.746*$K$6*$K$7)/('TEFC 1200 Values'!E21)","v":48859.294836808207},{"$f":"($A25*0.746*$K$6*$K$7)/('TEFC 1200 Values'!G21)","v":47365.079365079364},1494.2154717288431]
[100,null,{"$f":"($A26*0.746*$K$6*$K$7)/('TEFC 1200 Values'!E22)","v":65295.404814004374},{"$f":"($A26*0.746*$K$6*$K$7)/('TEFC 1200 Values'!F22)","v":63421.891604675882},1873.5132093284919,null,null,{"$f":"($A26*0.746*$K$6*$K$7)/('TEFC 1200 Values'!F22)","v":63421.891604675882},{"$f":"($A26*0.746*$K$6*$K$7)/('TEFC 1200 Values'!G22)","v":62821.052631578947},600.83897309693566,null,null,{"$f":"($A26*0.746*$K$6*$K$7)/('TEFC 1200 Values'!E22)","v":65295.404814004374},{"$f":"($A26*0.746*$K$6*$K$7)/('TEFC 1200 Values'!G22)","v":62821.052631578947},2474.3521824254276]
[125,null,{"$f":"($A27*0.746*$K$6*$K$7)/('TEFC 1200 Values'!E23)","v":81034.108190310668},{"$f":"($A27*0.746*$K$6*$K$7)/('TEFC 1200 Values'!F23)","v":79277.364505844846},1756.7436844658223,null,null,{"$f":"($A27*0.746*$K$6*$K$7)/('TEFC 1200 Values'!F23)","v":79277.364505844846},{"$f":"($A27*0.746*$K$6*$K$7)/('TEFC 1200 Values'!G23)","v":78526.31578947368},751.04871637116594,null,null,{"$f":"($A27*0.746*$K$6*$K$7)/('TEFC 1200 Values'!E23)","v":81034.108190310668},{"$f":"($A27*0.746*$K$6*$K$7)/('TEFC 1200 Values'!G23)","v":78526.31578947368},2507.7924008369882]
[150,null,{"$f":"($A28*0.746*$K$6*$K$7)/('TEFC 1200 Values'!E24)","v":96175.333046841435},{"$f":"($A28*0.746*$K$6*$K$7)/('TEFC 1200 Values'!F24)","v":94231.578947368427},1943.754099473008,null,null,{"$f":"($A28*0.746*$K$6*$K$7)/('TEFC 1200 Values'!F24)","v":94231.578947368427},{"$f":"($A28*0.746*$K$6*$K$7)/('TEFC 1200 Values'!G24)","v":93444.676409185806},786.90253818262136,null,null,{"$f":"($A28*0.746*$K$6*$K$7)/('TEFC 1200 Values'!E24)","v":96175.333046841435},{"$f":"($A28*0.746*$K$6*$K$7)/('TEFC 1200 Values'!G24)","v":93444.676409185806},2730.6566376556293]
[200,null,{"$f":"($A29*0.746*$K$6*$K$7)/('TEFC 1200 Values'!E25)","v":128954.19187554019},{"$f":"($A29*0.746*$K$6*$K$7)/('TEFC 1200 Values'!F25)","v":125642.10526315789},3312.0866123822925,null,null,{"$f":"($A29*0.746*$K$6*$K$7)/('TEFC 1200 Values'!F25)","v":125642.10526315789},{"$f":"($A29*0.746*$K$6*$K$7)/('TEFC 1200 Values'!G25)","v":124592.9018789144},1049.2033842434903,null,null,{"$f":"($A29*0.746*$K$6*$K$7)/('TEFC 1200 Values'!E25)","v":128954.19187554019},{"$f":"($A29*0.746*$K$6*$K$7)/('TEFC 1200 Values'!G25)","v":124592.9018789144},4361.2899966257828]
[]
["(hp)",null,"Pre-EPAct ","EISA","Δ Pre-EPAct => EISA",null,null,"EISA","Above EISA","Δ EISA =>           Above EISA",null,null,"Pre-EPAct ","Above EISA","Δ Pre-EPAct => Above EISA"]
[250,null,{"$f":"($A32*0.746*$K$6*$K$7)/('TEFC 1200 Values'!E29)","v":158050.8474576271},{"$f":"($A32*0.746*$K$6*$K$7)/('TEFC 1200 Values'!F29)","v":157052.63157894736},{"$f":"C32-D32","v":998.21587867973722},null,null,{"$f":"($A32*0.746*$K$6*$K$7)/('TEFC 1200 Values'!F29)","v":157052.63157894736},{"$f":"($A32*0.746*$K$6*$K$7)/('TEFC 1200 Values'!G29)","v":155741.127348643},{"$f":"H32-I32","v":1311.5042303043592},null,null,{"$f":"($A32*0.746*$K$6*$K$7)/('TEFC 1200 Values'!E29)","v":158050.8474576271},{"$f":"($A32*0.746*$K$6*$K$7)/('TEFC 1200 Values'!G29)","v":155741.127348643},{"$f":"M32-N32","v":2309.7201089840964}]
[300,null,{"$f":"($A33*0.746*$K$6*$K$7)/('TEFC 1200 Values'!E30)","v":189661.01694915254},{"$f":"($A33*0.746*$K$6*$K$7)/('TEFC 1200 Values'!F30)","v":188463.15789473685},{"$f":"C33-D33","v":1197.8590544156905},null,null,{"$f":"($A33*0.746*$K$6*$K$7)/('TEFC 1200 Values'!F30)","v":188463.15789473685},{"$f":"($A33*0.746*$K$6*$K$7)/('TEFC 1200 Values'!G30)","v":186889.35281837161},{"$f":"H33-I33","v":1573.8050763652427},null,null,{"$f":"($A33*0.746*$K$6*$K$7)/('TEFC 1200 Values'!E30)","v":189661.01694915254},{"$f":"($A33*0.746*$K$6*$K$7)/('TEFC 1200 Values'!G30)","v":186889.35281837161},2771.6641307809332]
[350,null,{"$f":"($A34*0.746*$K$6*$K$7)/('TEFC 1200 Values'!E31)","v":221552.82138311418},{"$f":"($A34*0.746*$K$6*$K$7)/('TEFC 1200 Values'!F31)","v":219873.68421052635},{"$f":"C34-D34","v":1679.1371725878271},null,null,{"$f":"($A34*0.746*$K$6*$K$7)/('TEFC 1200 Values'!F31)","v":219873.68421052635},{"$f":"($A34*0.746*$K$6*$K$7)/('TEFC 1200 Values'!G31)","v":218037.57828810025},{"$f":"H34-I34","v":1836.1059224260971},null,null,{"$f":"($A34*0.746*$K$6*$K$7)/('TEFC 1200 Values'!E31)","v":221552.82138311418},{"$f":"($A34*0.746*$K$6*$K$7)/('TEFC 1200 Values'!G31)","v":218037.57828810025},3515.2430950139242]
[400,null,{"$f":"($A35*0.746*$K$6*$K$7)/('TEFC 1200 Values'!E32)","v":251284.21052631579},{"$f":"($A35*0.746*$K$6*$K$7)/('TEFC 1200 Values'!F32)","v":251284.21052631579},{"$f":"C35-D35","v":0},null,null,{"$f":"($A35*0.746*$K$6*$K$7)/('TEFC 1200 Values'!F32)","v":251284.21052631579},{"$f":"($A35*0.746*$K$6*$K$7)/('TEFC 1200 Values'!G32)","v":249185.80375782881},{"$f":"H35-I35","v":2098.4067684869806},null,null,{"$f":"($A35*0.746*$K$6*$K$7)/('TEFC 1200 Values'!E32)","v":251284.21052631579},{"$f":"($A35*0.746*$K$6*$K$7)/('TEFC 1200 Values'!G32)","v":249185.80375782881},2098.4067684869806]
[450,null,{"$f":"($A36*0.746*$K$6*$K$7)/('TEFC 1200 Values'!E33)","v":282694.73684210528},"x","x",null,null,"x",{"$f":"($A36*0.746*$K$6*$K$7)/('TEFC 1200 Values'!G33)","v":280334.02922755742},"x",null,null,{"$f":"($A36*0.746*$K$6*$K$7)/('TEFC 1200 Values'!E33)","v":282694.73684210528},{"$f":"($A36*0.746*$K$6*$K$7)/('TEFC 1200 Values'!G33)","v":280334.02922755742},2360.7076145478641]
[500,null,{"$f":"($A37*0.746*$K$6*$K$7)/('TEFC 1200 Values'!E34)","v":314105.26315789472},"x","x",null,null,"x",{"$f":"($A37*0.746*$K$6*$K$7)/('TEFC 1200 Values'!G34)","v":311482.254697286},"x",null,null,{"$f":"($A37*0.746*$K$6*$K$7)/('TEFC 1200 Values'!E34)","v":314105.26315789472},{"$f":"($A37*0.746*$K$6*$K$7)/('TEFC 1200 Values'!G34)","v":311482.254697286},2623.0084606087185]
[]
["Please see the following \"Values\" sheet for efficiency data and descriptions."]
["x: efficiency value not established at this speed and enclosure type."]

{"sheet":"TEFC 1200 Values","index":2,"n_rows":34,"n_cols":16,"rows_kept":34,"cut":false,"hidden":false,"merged":[[38,0,38,5],[38,6,38,9],[4,3,5,3],[4,4,5,4],[4,5,5,5],[4,8,9,13],[36,0,36,5],[36,6,36,9],[37,0,37,5],[37,6,37,9],[25,8,30,13],[25,14,30,19],[4,6,5,6],[26,3,27,3],[26,4,27,4],[26,5,27,5],[26,6,27,6],[0,0,2,20],[4,14,9,19],[10,8,15,13],[10,14,15,19],[16,8,24,13],[16,14,24,19]]}
["Efficiency Values Used to Estimate Annual Energy Savings\n       TEFC    ·    1200 RPM    ·    Full-load Operation    ·    Nominal Efficiency                                \nEstimated Annual Energy Cost = (horsepower x annual operating hours x cost of electricity x 0.746) / (efficiency)"]
[]
[]
[]
[null,null,null,"Size (hp)","Pre-EPAct","EPAct","EISA",null,"Pre-Energy Policy Act (Pre-EPAct) refers to efficiency levels lower than the federal nominal efficiency standards established by EPAct. Pre-EPAct efficiency levels are an estimated average of nominal efficiency for motors manufactured before the EPAct standards. Pre-EPAct efficiency is calculated by the Department of Energy and used in the MotorMaster+ tool (v 4.01.01, September 2010).",null,null,null,null,null,"For more information, see: http://www1.eere.energy.gov/industry/bestpractices/software_motormaster.html"]
[]
[null,null,null,1,73.36,80,82.5]
[null,null,null,1.5,77.900000000000006,85.5,87.5]
[null,null,null,2,78.34,86.5,88.5]
[null,null,null,3,80.36,87.5,89.5]
[null,null,null,5,83.14,87.5,89.5,null,"Energy Policy Act (EPAct) refers to the federal nominal efficiency levels established by the 1992 Energy Policy Act, which became effective in 1997. EPAct established federal nominal efficiency standards for 1-200 hp general purpose motors 1200rpm, 1800 rpm, and 3600 rpm. EPAct efficiency is equivalent to NEMA MG1-2007 Table 12-11 for 1-200 hp motors. EPAct did not establish efficiency standards for 201-500 hp motors. ",null,null,null,null,null,"For more information, see:\nhttp://www1.eere.energy.gov/industry/bestpractices/pdfs/e-pact92.pdf"]
[null,null,null,7.5,84.44,89.5,91]
[null,null,null,10,84.95,89.5,91]
[null,null,null,15,87.02,90.2,91.7]
[null,null,null,20,87.74,90.2,91.7]
[null,null,null,25,88.93,91.7,93]
[null,null,null,30,89.64,91.7,93,null,"Energy Independence and Security Act (EISA) refers to the federal nominal efficiency standards established by the 2007 Energy Independence and Security Act, which became effective December 2010. For 1-200 hp general purpose motors 1200 rpm, 1800 rpm, 3600 rpm, EISA is equivalent to NEMA Premium®.* For 201-500 hp motors EISA established different federal nominal efficiency standards, which are equivalent to NEMA MG1-2007 Table 12-11. For 201-500 hp NEMA Premium nominal efficiency levels meet or exceed NEMA MG1-2007, Table 12-12.",null,null,null,null,null,"For more information, see:  http://www1.eere.energy.gov/buildings/appliance_standards/commercial/electric_motors.html"]
[null,null,null,40,89.92,93,94.1]
[null,null,null,50,90.62,93,94.1]
[null,null,null,60,90.75,93.6,94.5]
[null,null,null,75,91.61,93.6,94.5]
[null,null,null,100,91.4,94.1,95]
[null,null,null,125,92.06,94.1,95]
[null,null,null,150,93.08,95,95.8]
[null,null,null,200,92.56,95,95.8]
[null,null,null,null,null,null,null,null,"Above EISA refers to efficiency levels that exceed the EISA federal standards. For 201-500 hp general purpose motors 1200 rpm, 1800 rpm, 3600 rpm, Above EISA is equivalent to NEMA Premium,* with nominal efficiency levels that meet or exceed NEMA MG1-2007, Table 12-12. ",null,null,null,null,null,"For more information, see:\nhttp://www.nema.org/stds/mg1.cfm"]
[null,null,null,"Size (hp)","Pre-EPAct","EISA","Above EISA"]
[]
[null,null,null,250,94.4,95,95.8]
[null,null,null,300,94.4,95,95.8]
[null,null,null,350,94.28,95,95.8]
[null,null,null,400,95,95,95.8]
[null,null,null,450,95,"x",95.8,null,"*NEMA Premium is a trademark owned by the National Electrical Manufacturers Association,",null,null,null,null,null,null,"www.nema.org"]
[null,null,null,500,95,"x",95.8,null,"x: efficiency value not established at this speed and enclosure type."]

{"sheet":"ODP 1200 Savings","index":3,"n_rows":40,"n_cols":15,"rows_kept":40,"cut":false,"hidden":false,"merged":[[19,9,19,10],[18,9,18,10],[16,4,16,5],[14,9,14,10],[11,4,11,5],[15,9,15,10],[13,4,13,5],[14,4,14,5],[16,9,16,10],[12,4,12,5],[13,9,13,10],[22,9,22,10],[23,9,23,10],[24,9,24,10],[8,0,9,0],[8,2,8,3],[8,7,8,8],[10,4,10,5],[8,4,8,5],[9,4,9,5],[8,9,8,10],[9,9,9,10],[10,9,10,10],[11,9,11,10],[12,9,12,10],[19,4,19,5],[15,4,15,5],[31,4,31,5],[32,4,32,5],[33,4,33,5],[35,4,35,5],[27,9,27,10],[28,9,28,10],[31,9,31,10],[32,9,32,10],[33,9,33,10],[28,4,28,5],[30,4,30,5],[27,4,27,5],[0,3,2,13],[36,14,36,15],[27,14,27,15],[28,14,28,15],[30,14,30,15],[31,14,31,15],[23,14,23,15],[24,14,24,15],[35,14,35,15],[36,9,36,10],[18,14,18,15],[17,4,17,5],[16,14,16,15],[15,14,15,15],[17,9,17,10],[25,14,25,15],[26,14,26,15],[19,14,19,15],[20,14,20,15],[21,14,21,15],[3,13,7,15],[22,14,22,15],[8,12,8,13],[8,14,8,15],[9,14,9,15],[10,14,10,15],[17,14,17,15],[11,14,11,15],[12,14,12,15],[13,14,13,15],[14,14,14,15],[5,3,6,5],[30,9,30,10],[26,9,26,10],[5,7,5,9],[6,7,6,9],[18,4,18,5],[20,4,20,5],[23,4,23,5],[24,4,24,5],[26,4,26,5],[21,4,21,5],[25,9,25,10],[22,4,22,5],[25,4,25,5],[20,9,20,10],[21,9,21,10],[39,0,39,16],[42,0,42,15],[40,0,41,15],[32,14,32,15],[33,14,33,15],[34,14,34,15],[34,4,34,5],[34,9,34,10],[35,9,35,10],[36,4,36,5],[38,0,38,16]]}
[null,null,null,"Estimated Annual Energy Savings from Upgrading Motor Efficiency\n  ODP    ·    1200 RPM    ·    Full-load Operation    ·    Nominal Efficiency                                \nEstimated Annual Energy Cost = (horsepower x annual operating hours x cost of electricity x 0.746) / (efficiency)"]
[]
[]
[null,null,null,null,null,null,null,null,null,null,null,null,null,"Learn more about saving money through sound motor management.\nFor additional tools and resources, visit: www.motorsmatter.org."]
[]
[null,null,null,"Enter Appropriate Values for:",null,null,null,"Annual Operating Hours :",null,null,8000,null,"hrs per year"]
[null,null,null,null,null,null,null,"Cost of Electricity : ",null,null,10,null,"¢ per kWh"]
[]
["Motor Size (hp)",null,"Operating Costs",null,"Energy Savings",null,null,"Operating Costs",null,"Energy Savings",null,null,"Operating Costs",null,"Energy Savings"]
[null,null,"Pre-EPAct ","EPAct","Δ Pre-EPAct => EPAct",null,null,"EPAct","EISA","Δ EPAct => EISA",null,null,"Pre-EPAct ","EISA","Δ Pre-EPAct =>\nEISA"]
[1,null,{"$f":"($A11*0.746*$K$6*$K$7)/('ODP 1200 Values'!E7)","v":800.85882984433715},{"$f":"($A11*0.746*$K$6*$K$7)/('ODP 1200 Values'!F7)","v":746},{"$f":"C11-D11","v":54.858829844337151},null,null,{"$f":"($A11*0.746*$K$6*$K$7)/('ODP 1200 Values'!F7)","v":746},{"$f":"($A11*0.746*$K$6*$K$7)/('ODP 1200 Values'!G7)","v":698.01169590643269},{"$f":"H11-I11","v":47.988304093567308},null,null,{"$f":"($A11*0.746*$K$6*$K$7)/('ODP 1200 Values'!E7)","v":800.85882984433715},{"$f":"($A11*0.746*$K$6*$K$7)/('ODP 1200 Values'!G7)","v":698.01169590643269},{"$f":"M11-N11","v":102.84713393790446}]
[1.5,null,{"$f":"($A12*0.746*$K$6*$K$7)/('ODP 1200 Values'!E8)","v":1153.0139103554868},{"$f":"($A12*0.746*$K$6*$K$7)/('ODP 1200 Values'!F8)","v":1065.7142857142858},{"$f":"C12-D12","v":87.299624641201035},null,null,{"$f":"($A12*0.746*$K$6*$K$7)/('ODP 1200 Values'!F8)","v":1065.7142857142858},{"$f":"($A12*0.746*$K$6*$K$7)/('ODP 1200 Values'!G8)","v":1034.913294797688},30.800990916597812,null,null,{"$f":"($A12*0.746*$K$6*$K$7)/('ODP 1200 Values'!E8)","v":1153.0139103554868},{"$f":"($A12*0.746*$K$6*$K$7)/('ODP 1200 Values'!G8)","v":1034.913294797688},{"$f":"M12-N12","v":118.10061555779885}]
[2,null,{"$f":"($A13*0.746*$K$6*$K$7)/('ODP 1200 Values'!E9)","v":1494.6155772602053},{"$f":"($A13*0.746*$K$6*$K$7)/('ODP 1200 Values'!F9)","v":1396.0233918128654},98.592185447339943,null,null,{"$f":"($A13*0.746*$K$6*$K$7)/('ODP 1200 Values'!F9)","v":1396.0233918128654},{"$f":"($A13*0.746*$K$6*$K$7)/('ODP 1200 Values'!G9)","v":1364.1142857142856},31.909106098579741,null,null,{"$f":"($A13*0.746*$K$6*$K$7)/('ODP 1200 Values'!E9)","v":1494.6155772602053},{"$f":"($A13*0.746*$K$6*$K$7)/('ODP 1200 Values'!G9)","v":1364.1142857142856},{"$f":"M13-N13","v":130.50129154591968}]
[3,null,{"$f":"($A14*0.746*$K$6*$K$7)/('ODP 1200 Values'!E10)","v":2192.5055106539312},{"$f":"($A14*0.746*$K$6*$K$7)/('ODP 1200 Values'!F10)","v":2069.8265895953759},122.67892105855526,null,null,{"$f":"($A14*0.746*$K$6*$K$7)/('ODP 1200 Values'!F10)","v":2069.8265895953759},{"$f":"($A14*0.746*$K$6*$K$7)/('ODP 1200 Values'!G10)","v":2023.050847457627},46.775742137748921,null,null,{"$f":"($A14*0.746*$K$6*$K$7)/('ODP 1200 Values'!E10)","v":2192.5055106539312},{"$f":"($A14*0.746*$K$6*$K$7)/('ODP 1200 Values'!G10)","v":2023.050847457627},{"$f":"M14-N14","v":169.45466319630418}]
[5,null,{"$f":"($A15*0.746*$K$6*$K$7)/('ODP 1200 Values'!E11)","v":3568.5242764888781},{"$f":"($A15*0.746*$K$6*$K$7)/('ODP 1200 Values'!F11)","v":3410.2857142857142},158.23856220316384,null,null,{"$f":"($A15*0.746*$K$6*$K$7)/('ODP 1200 Values'!F11)","v":3410.2857142857142},{"$f":"($A15*0.746*$K$6*$K$7)/('ODP 1200 Values'!G11)","v":3334.078212290503},76.20750199521126,null,null,{"$f":"($A15*0.746*$K$6*$K$7)/('ODP 1200 Values'!E11)","v":3568.5242764888781},{"$f":"($A15*0.746*$K$6*$K$7)/('ODP 1200 Values'!G11)","v":3334.078212290503},234.4460641983751]
[7.5,null,{"$f":"($A16*0.746*$K$6*$K$7)/('ODP 1200 Values'!E12)","v":5232.639700724807},{"$f":"($A16*0.746*$K$6*$K$7)/('ODP 1200 Values'!F12)","v":5057.6271186440681},175.01258208073887,null,null,{"$f":"($A16*0.746*$K$6*$K$7)/('ODP 1200 Values'!F12)","v":5057.6271186440681},{"$f":"($A16*0.746*$K$6*$K$7)/('ODP 1200 Values'!G12)","v":4962.3059866962303},95.321131947837785,null,null,{"$f":"($A16*0.746*$K$6*$K$7)/('ODP 1200 Values'!E12)","v":5232.639700724807},{"$f":"($A16*0.746*$K$6*$K$7)/('ODP 1200 Values'!G12)","v":4962.3059866962303},270.33371402857665]
[10,null,{"$f":"($A17*0.746*$K$6*$K$7)/('ODP 1200 Values'!E13)","v":6829.1566540794138},{"$f":"($A17*0.746*$K$6*$K$7)/('ODP 1200 Values'!F13)","v":6616.4079822616404},212.74867181777336,null,null,{"$f":"($A17*0.746*$K$6*$K$7)/('ODP 1200 Values'!F13)","v":6616.4079822616404},{"$f":"($A17*0.746*$K$6*$K$7)/('ODP 1200 Values'!G13)","v":6508.1788440567061},108.22913820493432,null,null,{"$f":"($A17*0.746*$K$6*$K$7)/('ODP 1200 Values'!E13)","v":6829.1566540794138},{"$f":"($A17*0.746*$K$6*$K$7)/('ODP 1200 Values'!G13)","v":6508.1788440567061},320.97781002270767]
[15,null,{"$f":"($A18*0.746*$K$6*$K$7)/('ODP 1200 Values'!E14)","v":10294.388224471022},{"$f":"($A18*0.746*$K$6*$K$7)/('ODP 1200 Values'!F14)","v":9924.6119733924606},369.77625107856147,null,null,{"$f":"($A18*0.746*$K$6*$K$7)/('ODP 1200 Values'!F14)","v":9924.6119733924606},{"$f":"($A18*0.746*$K$6*$K$7)/('ODP 1200 Values'!G14)","v":9762.2682660850605},162.34370730740011,null,null,{"$f":"($A18*0.746*$K$6*$K$7)/('ODP 1200 Values'!E14)","v":10294.388224471022},{"$f":"($A18*0.746*$K$6*$K$7)/('ODP 1200 Values'!G14)","v":9762.2682660850605},532.11995838596158]
[20,null,{"$f":"($A19*0.746*$K$6*$K$7)/('ODP 1200 Values'!E15)","v":13610.034207525656},{"$f":"($A19*0.746*$K$6*$K$7)/('ODP 1200 Values'!F15)","v":13116.483516483517},493.55069104213908,null,null,{"$f":"($A19*0.746*$K$6*$K$7)/('ODP 1200 Values'!F15)","v":13116.483516483517},{"$f":"($A19*0.746*$K$6*$K$7)/('ODP 1200 Values'!G15)","v":12917.748917748917},198.73459873459979,null,null,{"$f":"($A19*0.746*$K$6*$K$7)/('ODP 1200 Values'!E15)","v":13610.034207525656},{"$f":"($A19*0.746*$K$6*$K$7)/('ODP 1200 Values'!G15)","v":12917.748917748917},692.28528977673886]
[25,null,{"$f":"($A20*0.746*$K$6*$K$7)/('ODP 1200 Values'!E16)","v":16771.582733812949},{"$f":"($A20*0.746*$K$6*$K$7)/('ODP 1200 Values'!F16)","v":16270.447110141766},501.13562367118357,null,null,{"$f":"($A20*0.746*$K$6*$K$7)/('ODP 1200 Values'!F16)","v":16270.447110141766},{"$f":"($A20*0.746*$K$6*$K$7)/('ODP 1200 Values'!G16)","v":16043.010752688173},227.43635745359279,null,null,{"$f":"($A20*0.746*$K$6*$K$7)/('ODP 1200 Values'!E16)","v":16771.582733812949},{"$f":"($A20*0.746*$K$6*$K$7)/('ODP 1200 Values'!G16)","v":16043.010752688173},728.57198112477636]
[30,null,{"$f":"($A21*0.746*$K$6*$K$7)/('ODP 1200 Values'!E17)","v":20008.940545373265},{"$f":"($A21*0.746*$K$6*$K$7)/('ODP 1200 Values'!F17)","v":19376.623376623374},632.3171687498907,null,null,{"$f":"($A21*0.746*$K$6*$K$7)/('ODP 1200 Values'!F17)","v":19376.623376623374},{"$f":"($A21*0.746*$K$6*$K$7)/('ODP 1200 Values'!G17)","v":19128.205128205129},248.41824841824564,null,null,{"$f":"($A21*0.746*$K$6*$K$7)/('ODP 1200 Values'!E17)","v":20008.940545373265},{"$f":"($A21*0.746*$K$6*$K$7)/('ODP 1200 Values'!G17)","v":19128.205128205129},880.73541716813634]
[40,null,{"$f":"($A22*0.746*$K$6*$K$7)/('ODP 1200 Values'!E18)","v":26693.503298669348},{"$f":"($A22*0.746*$K$6*$K$7)/('ODP 1200 Values'!F18)","v":25668.817204301075},1024.6860943682732,null,null,{"$f":"($A22*0.746*$K$6*$K$7)/('ODP 1200 Values'!F18)","v":25668.817204301075},{"$f":"($A22*0.746*$K$6*$K$7)/('ODP 1200 Values'!G18)","v":25368.756641870354},300.06056243072089,null,null,{"$f":"($A22*0.746*$K$6*$K$7)/('ODP 1200 Values'!E18)","v":26693.503298669348},{"$f":"($A22*0.746*$K$6*$K$7)/('ODP 1200 Values'!G18)","v":25368.756641870354},1324.7466567989941]
[50,null,{"$f":"($A23*0.746*$K$6*$K$7)/('ODP 1200 Values'!E19)","v":33251.615778916872},{"$f":"($A23*0.746*$K$6*$K$7)/('ODP 1200 Values'!F19)","v":32086.021505376346},1165.594273540526,null,null,{"$f":"($A23*0.746*$K$6*$K$7)/('ODP 1200 Values'!F19)","v":32086.021505376346},{"$f":"($A23*0.746*$K$6*$K$7)/('ODP 1200 Values'!G19)","v":31710.945802337941},375.07570303840475,null,null,{"$f":"($A23*0.746*$K$6*$K$7)/('ODP 1200 Values'!E19)","v":33251.615778916872},{"$f":"($A23*0.746*$K$6*$K$7)/('ODP 1200 Values'!G19)","v":31710.945802337941},1540.6699765789308]
[60,null,{"$f":"($A24*0.746*$K$6*$K$7)/('ODP 1200 Values'!E20)","v":39440.467011785433},{"$f":"($A24*0.746*$K$6*$K$7)/('ODP 1200 Values'!F20)","v":38256.410256410258},1184.0567553751753,null,null,{"$f":"($A24*0.746*$K$6*$K$7)/('ODP 1200 Values'!F20)","v":38256.410256410258},{"$f":"($A24*0.746*$K$6*$K$7)/('ODP 1200 Values'!G20)","v":37892.063492063491},364.34676434676658,null,null,{"$f":"($A24*0.746*$K$6*$K$7)/('ODP 1200 Values'!E20)","v":39440.467011785433},{"$f":"($A24*0.746*$K$6*$K$7)/('ODP 1200 Values'!G20)","v":37892.063492063491},1548.4035197219418]
[75,null,{"$f":"($A25*0.746*$K$6*$K$7)/('ODP 1200 Values'!E21)","v":48912.687138017704},{"$f":"($A25*0.746*$K$6*$K$7)/('ODP 1200 Values'!F21)","v":47820.51282051282},1092.1743175048832,null,null,{"$f":"($A25*0.746*$K$6*$K$7)/('ODP 1200 Values'!F21)","v":47820.51282051282},{"$f":"($A25*0.746*$K$6*$K$7)/('ODP 1200 Values'!G21)","v":47365.079365079364},455.4334554334564,null,null,{"$f":"($A25*0.746*$K$6*$K$7)/('ODP 1200 Values'!E21)","v":48912.687138017704},{"$f":"($A25*0.746*$K$6*$K$7)/('ODP 1200 Values'!G21)","v":47365.079365079364},1547.6077729383396]
[100,null,{"$f":"($A26*0.746*$K$6*$K$7)/('ODP 1200 Values'!E22)","v":64707.795728071127},{"$f":"($A26*0.746*$K$6*$K$7)/('ODP 1200 Values'!F22)","v":63421.891604675882},1285.9041233952448,null,null,{"$f":"($A26*0.746*$K$6*$K$7)/('ODP 1200 Values'!F22)","v":63421.891604675882},{"$f":"($A26*0.746*$K$6*$K$7)/('ODP 1200 Values'!G22)","v":62821.052631578947},600.83897309693566,null,null,{"$f":"($A26*0.746*$K$6*$K$7)/('ODP 1200 Values'!E22)","v":64707.795728071127},{"$f":"($A26*0.746*$K$6*$K$7)/('ODP 1200 Values'!G22)","v":62821.052631578947},1886.7430964921805]
[125,null,{"$f":"($A27*0.746*$K$6*$K$7)/('ODP 1200 Values'!E23)","v":81113.406545612699},{"$f":"($A27*0.746*$K$6*$K$7)/('ODP 1200 Values'!F23)","v":79277.364505844846},1836.0420397678536,null,null,{"$f":"($A27*0.746*$K$6*$K$7)/('ODP 1200 Values'!F23)","v":79277.364505844846},{"$f":"($A27*0.746*$K$6*$K$7)/('ODP 1200 Values'!G23)","v":78526.31578947368},751.04871637116594,null,null,{"$f":"($A27*0.746*$K$6*$K$7)/('ODP 1200 Values'!E23)","v":81113.406545612699},{"$f":"($A27*0.746*$K$6*$K$7)/('ODP 1200 Values'!G23)","v":78526.31578947368},2587.0907561390195]
[150,null,{"$f":"($A28*0.746*$K$6*$K$7)/('ODP 1200 Values'!E24)","v":96663.427275672177},{"$f":"($A28*0.746*$K$6*$K$7)/('ODP 1200 Values'!F24)","v":94730.158730158728},1933.2685455134488,null,null,{"$f":"($A28*0.746*$K$6*$K$7)/('ODP 1200 Values'!F24)","v":94730.158730158728},{"$f":"($A28*0.746*$K$6*$K$7)/('ODP 1200 Values'!G24)","v":93836.477987421371},893.68074273735692,null,null,{"$f":"($A28*0.746*$K$6*$K$7)/('ODP 1200 Values'!E24)","v":96663.427275672177},{"$f":"($A28*0.746*$K$6*$K$7)/('ODP 1200 Values'!G24)","v":93836.477987421371},2826.9492882508057]
[200,null,{"$f":"($A29*0.746*$K$6*$K$7)/('ODP 1200 Values'!E25)","v":128523.74286637234},{"$f":"($A29*0.746*$K$6*$K$7)/('ODP 1200 Values'!F25)","v":126306.87830687831},2216.8645594940317,null,null,{"$f":"($A29*0.746*$K$6*$K$7)/('ODP 1200 Values'!F25)","v":126306.87830687831},{"$f":"($A29*0.746*$K$6*$K$7)/('ODP 1200 Values'!G25)","v":125115.3039832285},1191.5743236498092,null,null,{"$f":"($A29*0.746*$K$6*$K$7)/('ODP 1200 Values'!E25)","v":128523.74286637234},{"$f":"($A29*0.746*$K$6*$K$7)/('ODP 1200 Values'!G25)","v":125115.3039832285},3408.4388831438409]
[]
["(hp)",null,"Pre-EPAct ","EISA","Δ Pre-EPAct => EISA",null,null,"EISA","Above EISA","Δ EISA =>           Above EISA",null,null,"Pre-EPAct ","Above EISA","Δ Pre-EPAct => Above EISA"]
[250,null,{"$f":"($A32*0.746*$K$6*$K$7)/('ODP 1200 Values'!E29)","v":158537.88120284773},{"$f":"($A32*0.746*$K$6*$K$7)/('ODP 1200 Values'!F29)","v":156394.12997903564},{"$f":"C32-D32","v":2143.7512238120835},null,null,{"$f":"($A32*0.746*$K$6*$K$7)/('ODP 1200 Values'!F29)","v":156394.12997903564},{"$f":"($A32*0.746*$K$6*$K$7)/('ODP 1200 Values'!G29)","v":156394.12997903564},{"$f":"H32-I32","v":0},null,null,{"$f":"($A32*0.746*$K$6*$K$7)/('ODP 1200 Values'!E29)","v":158537.88120284773},{"$f":"($A32*0.746*$K$6*$K$7)/('ODP 1200 Values'!G29)","v":156394.12997903564},{"$f":"M32-N32","v":2143.7512238120835}]
[300,null,{"$f":"($A33*0.746*$K$6*$K$7)/('ODP 1200 Values'!E30)","v":189741.41585417549},{"$f":"($A33*0.746*$K$6*$K$7)/('ODP 1200 Values'!F30)","v":187672.95597484274},{"$f":"C33-D33","v":2068.4598793327459},null,null,{"$f":"($A33*0.746*$K$6*$K$7)/('ODP 1200 Values'!F30)","v":187672.95597484274},{"$f":"($A33*0.746*$K$6*$K$7)/('ODP 1200 Values'!G30)","v":187672.95597484274},{"$f":"H33-I33","v":0},null,null,{"$f":"($A33*0.746*$K$6*$K$7)/('ODP 1200 Values'!E30)","v":189741.41585417549},{"$f":"($A33*0.746*$K$6*$K$7)/('ODP 1200 Values'!G30)","v":187672.95597484274},2068.4598793327459]
[350,null,{"$f":"($A34*0.746*$K$6*$K$7)/('ODP 1200 Values'!E31)","v":220966.88881836459},{"$f":"($A34*0.746*$K$6*$K$7)/('ODP 1200 Values'!F31)","v":218951.78197064993},{"$f":"C34-D34","v":2015.1068477146619},null,null,{"$f":"($A34*0.746*$K$6*$K$7)/('ODP 1200 Values'!F31)","v":218951.78197064993},{"$f":"($A34*0.746*$K$6*$K$7)/('ODP 1200 Values'!G31)","v":218951.78197064993},{"$f":"H34-I34","v":0},null,null,{"$f":"($A34*0.746*$K$6*$K$7)/('ODP 1200 Values'!E31)","v":220966.88881836459},{"$f":"($A34*0.746*$K$6*$K$7)/('ODP 1200 Values'!G31)","v":218951.78197064993},2015.1068477146619]
[400,null,{"$f":"($A35*0.746*$K$6*$K$7)/('ODP 1200 Values'!E32)","v":250230.607966457},"x","x",null,null,"x",{"$f":"($A35*0.746*$K$6*$K$7)/('ODP 1200 Values'!G32)","v":249185.80375782881},"x",null,null,{"$f":"($A35*0.746*$K$6*$K$7)/('ODP 1200 Values'!E32)","v":250230.607966457},{"$f":"($A35*0.746*$K$6*$K$7)/('ODP 1200 Values'!G32)","v":249185.80375782881},1044.804208628193]
[450,null,{"$f":"($A36*0.746*$K$6*$K$7)/('ODP 1200 Values'!E33)","v":281509.43396226416},"x","x",null,null,"x",{"$f":"($A36*0.746*$K$6*$K$7)/('ODP 1200 Values'!G33)","v":279168.39916839916},"x",null,null,{"$f":"($A36*0.746*$K$6*$K$7)/('ODP 1200 Values'!E33)","v":281509.43396226416},{"$f":"($A36*0.746*$K$6*$K$7)/('ODP 1200 Values'!G33)","v":279168.39916839916},2341.0347938649938]
[500,null,{"$f":"($A37*0.746*$K$6*$K$7)/('ODP 1200 Values'!E34)","v":312788.25995807128},"x","x",null,null,"x",{"$f":"($A37*0.746*$K$6*$K$7)/('ODP 1200 Values'!G34)","v":310187.1101871102},"x",null,null,{"$f":"($A37*0.746*$K$6*$K$7)/('ODP 1200 Values'!E34)","v":312788.25995807128},{"$f":"($A37*0.746*$K$6*$K$7)/('ODP 1200 Values'!G34)","v":310187.1101871102},2601.1497709610849]
[]
["Please see the following \"Values\" sheet for efficiency data and descriptions."]
["x: efficiency value not established at this speed and enclosure type."]

{"sheet":"ODP 1200 Values","index":4,"n_rows":34,"n_cols":16,"rows_kept":34,"cut":false,"hidden":false,"merged":[[38,0,38,5],[38,6,38,9],[4,8,9,13],[36,0,36,5],[36,6,36,9],[37,0,37,5],[37,6,37,9],[25,8,30,13],[26,6,27,6],[25,14,30,19],[0,0,2,20],[4,14,9,19],[10,8,15,13],[10,14,15,19],[16,8,24,13],[16,14,24,19],[26,3,27,3],[26,4,27,4],[26,5,27,5],[4,3,5,3],[4,4,5,4],[4,5,5,5],[4,6,5,6]]}
["Efficiency Values Used to Estimate Annual Energy Savings\n       ODP    ·    1200 RPM    ·    Full-load Operation    ·    Nominal Efficiency                                \nEstimated Annual Energy Cost = (horsepower x annual operating hours x cost of electricity x 0.746) / (efficiency)"]
[]
[]
[]
[null,null,null,"Size (hp)","Pre-EPAct","EPAct","EISA",null,"Pre-Energy Policy Act (Pre-EPAct) refers to efficiency levels lower than the federal nominal efficiency standards established by EPAct. Pre-EPAct efficiency levels are an estimated average of nominal efficiency for motors manufactured before the EPAct standards. Pre-EPAct efficiency is calculated by the Department of Energy and used in the MotorMaster+ tool (v 4.01.01, September 2010).",null,null,null,null,null,"For more information, see: http://www1.eere.energy.gov/industry/bestpractices/software_motormaster.html"]
[]
[null,null,null,1,74.52,80,85.5]
[null,null,null,1.5,77.64,84,86.5]
[null,null,null,2,79.86,85.5,87.5]
[null,null,null,3,81.66,86.5,88.5]
[null,null,null,5,83.62,87.5,89.5,null,"Energy Policy Act (EPAct) refers to the federal nominal efficiency levels established by the 1992 Energy Policy Act, which became effective in 1997. EPAct established federal nominal efficiency standards for 1-200 hp general purpose motors 1200rpm, 1800 rpm, and 3600 rpm. EPAct efficiency is equivalent to NEMA MG1-2007 Table 12-11 for 1-200 hp motors. EPAct did not establish efficiency standards for 201-500 hp motors. ",null,null,null,null,null,"For more information, see:\nhttp://www1.eere.energy.gov/industry/bestpractices/pdfs/e-pact92.pdf"]
[null,null,null,7.5,85.54,88.5,90.2]
[null,null,null,10,87.39,90.2,91.7]
[null,null,null,15,86.96,90.2,91.7]
[null,null,null,20,87.7,91,92.4]
[null,null,null,25,88.96,91.7,93]
[null,null,null,30,89.48,92.4,93.6,null,"Energy Independence and Security Act (EISA) refers to the federal nominal efficiency standards established by the 2007 Energy Independence and Security Act, which became effective December 2010. For 1-200 hp general purpose motors 1200 rpm, 1800 rpm, 3600 rpm, EISA is equivalent to NEMA Premium®.* For 201-500 hp motors EISA established different federal nominal efficiency standards, which are equivalent to NEMA MG1-2007 Table 12-11. For 201-500 hp NEMA Premium nominal efficiency levels meet or exceed NEMA MG1-2007, Table 12-12.",null,null,null,null,null,"For more information, see:  http://www1.eere.energy.gov/buildings/appliance_standards/commercial/electric_motors.html"]
[null,null,null,40,89.43,93,94.1]
[null,null,null,50,89.74,93,94.1]
[null,null,null,60,90.79,93.6,94.5]
[null,null,null,75,91.51,93.6,94.5]
[null,null,null,100,92.23,94.1,95]
[null,null,null,125,91.97,94.1,95]
[null,null,null,150,92.61,94.5,95.4]
[null,null,null,200,92.87,94.5,95.4]
[null,null,null,null,null,null,null,null,"Above EISA refers to efficiency levels that exceed the EISA federal standards. For 201-500 hp general purpose motors 1200 rpm, 1800 rpm, 3600 rpm, Above EISA is equivalent to NEMA Premium,* with nominal efficiency levels that meet or exceed NEMA MG1-2007, Table 12-12. ",null,null,null,null,null,"For more information, see:\nhttp://www.nema.org/stds/mg1.cfm"]
[null,null,null,"Size (hp)","Pre-EPAct","EISA","Above EISA"]
[]
[null,null,null,250,94.11,95.4,95.4]
[null,null,null,300,94.36,95.4,95.4]
[null,null,null,350,94.53,95.4,95.4]
[null,null,null,400,95.4,"x",95.8]
[null,null,null,450,95.4,"x",96.2,null,"*NEMA Premium is a trademark owned by the National Electrical Manufacturers Association,",null,null,null,null,null,null,"www.nema.org"]
[null,null,null,500,95.4,"x",96.2,null,"x: efficiency value not established at this speed and enclosure type."]

{"sheet":"TEFC 1800 Savings","index":5,"n_rows":39,"n_cols":15,"rows_kept":39,"cut":false,"hidden":false,"merged":[[38,0,38,16],[39,0,39,16],[40,0,41,15],[5,3,6,5],[5,7,5,9],[6,7,6,9],[26,14,26,15],[19,14,19,15],[20,14,20,15],[21,14,21,15],[34,14,34,15],[17,14,17,15],[18,14,18,15],[30,9,30,10],[26,9,26,10],[27,9,27,10],[28,4,28,5],[27,4,27,5],[25,4,25,5],[23,4,23,5],[24,4,24,5],[0,3,2,13],[8,12,8,13],[18,4,18,5],[19,4,19,5],[20,4,20,5],[17,9,17,10],[18,9,18,10],[3,13,7,15],[15,9,15,10],[15,4,15,5],[16,4,16,5],[12,4,12,5],[13,4,13,5],[14,4,14,5],[16,14,16,15],[16,9,16,10],[35,14,35,15],[36,9,36,10],[35,9,35,10],[32,14,32,15],[33,14,33,15],[30,14,30,15],[31,14,31,15],[32,9,32,10],[33,9,33,10],[34,9,34,10],[11,4,11,5],[25,14,25,15],[22,14,22,15],[19,9,19,10],[21,9,21,10],[22,9,22,10],[23,9,23,10],[24,9,24,10],[23,14,23,15],[24,14,24,15],[20,9,20,10],[21,4,21,5],[22,4,22,5],[14,14,14,15],[15,14,15,15],[14,9,14,10],[8,0,9,0],[8,2,8,3],[8,7,8,8],[10,4,10,5],[8,4,8,5],[9,4,9,5],[8,9,8,10],[9,9,9,10],[10,9,10,10],[11,9,11,10],[13,14,13,15],[8,14,8,15],[9,14,9,15],[10,14,10,15],[11,14,11,15],[12,14,12,15],[13,9,13,10],[12,9,12,10],[42,0,42,15],[17,4,17,5],[26,4,26,5],[36,4,36,5],[30,4,30,5],[31,4,31,5],[32,4,32,5],[33,4,33,5],[34,4,34,5],[35,4,35,5],[25,9,25,10],[28,9,28,10],[31,9,31,10],[36,14,36,15],[27,14,27,15],[28,14,28,15]]}
[null,null,null,"Estimated Annual Energy Savings from Upgrading Motor Efficiency\n  TEFC ·    1800 RPM    ·    Full-load Operation    ·    Nominal Efficiency                                \nEstimated Annual Energy Cost = (horsepower x annual operating hours x cost of electricity x 0.746) / (efficiency)"]
[]
[]
[null,null,null,null,null,null,null,null,null,null,null,null,null,"Learn more about saving money through sound motor management.\nFor additional tools and resources, visit: www.motorsmatter.org."]
[]
[null,null,null,"Enter Appropriate Values for:",null,null,null,"Annual Operating Hours :",null,null,8000,null,"hrs per year"]
[null,null,null,null,null,null,null,"Cost of Electricity : ",null,null,10,null,"¢ per kWh"]
[]
["Motor Size (hp)",null,"Operating Costs",null,"Energy Savings",null,null,"Operating Costs",null,"Energy Savings",null,null,"Operating Costs",null,"Energy Savings"]
[null,null,"Pre-EPAct ","EPAct","Δ Pre-EPAct => EPAct",null,null,"EPAct","EISA","Δ EPAct => EISA",null,null,"Pre-EPAct ","EISA","Δ Pre-EPAct =>\nEISA"]
[1,null,{"$f":"($A11*0.746*$K$6*$K$7)/('TEFC 1800 Values'!E7)","v":778.29942618675011},{"$f":"($A11*0.746*$K$6*$K$7)/('TEFC 1800 Values'!F7)","v":723.39393939393938},{"$f":"C11-D11","v":54.905486792810734},null,null,{"$f":"($A11*0.746*$K$6*$K$7)/('TEFC 1800 Values'!F7)","v":723.39393939393938},{"$f":"($A11*0.746*$K$6*$K$7)/('TEFC 1800 Values'!G7)","v":698.01169590643269},{"$f":"H11-I11","v":25.382243487506685},null,null,{"$f":"($A11*0.746*$K$6*$K$7)/('TEFC 1800 Values'!E7)","v":778.29942618675011},{"$f":"($A11*0.746*$K$6*$K$7)/('TEFC 1800 Values'!G7)","v":698.01169590643269},{"$f":"M11-N11","v":80.287730280317419}]
[1.5,null,{"$f":"($A12*0.746*$K$6*$K$7)/('TEFC 1800 Values'!E8)","v":1132.0182094081943},{"$f":"($A12*0.746*$K$6*$K$7)/('TEFC 1800 Values'!F8)","v":1065.7142857142858},{"$f":"C12-D12","v":66.303923693908473},null,null,{"$f":"($A12*0.746*$K$6*$K$7)/('TEFC 1800 Values'!F8)","v":1065.7142857142858},{"$f":"($A12*0.746*$K$6*$K$7)/('TEFC 1800 Values'!G8)","v":1034.913294797688},30.800990916597812,null,null,{"$f":"($A12*0.746*$K$6*$K$7)/('TEFC 1800 Values'!E8)","v":1132.0182094081943},{"$f":"($A12*0.746*$K$6*$K$7)/('TEFC 1800 Values'!G8)","v":1034.913294797688},{"$f":"M12-N12","v":97.104914610506285}]
[2,null,{"$f":"($A13*0.746*$K$6*$K$7)/('TEFC 1800 Values'!E9)","v":1476.6794506989979},{"$f":"($A13*0.746*$K$6*$K$7)/('TEFC 1800 Values'!F9)","v":1420.952380952381},55.727069746616962,null,null,{"$f":"($A13*0.746*$K$6*$K$7)/('TEFC 1800 Values'!F9)","v":1420.952380952381},{"$f":"($A13*0.746*$K$6*$K$7)/('TEFC 1800 Values'!G9)","v":1379.8843930635837},41.067987888797234,null,null,{"$f":"($A13*0.746*$K$6*$K$7)/('TEFC 1800 Values'!E9)","v":1476.6794506989979},{"$f":"($A13*0.746*$K$6*$K$7)/('TEFC 1800 Values'!G9)","v":1379.8843930635837},{"$f":"M13-N13","v":96.795057635414196}]
[3,null,{"$f":"($A14*0.746*$K$6*$K$7)/('TEFC 1800 Values'!E10)","v":2199.5085995085992},{"$f":"($A14*0.746*$K$6*$K$7)/('TEFC 1800 Values'!F10)","v":2046.1714285714286},153.33717093717064,null,null,{"$f":"($A14*0.746*$K$6*$K$7)/('TEFC 1800 Values'!F10)","v":2046.1714285714286},{"$f":"($A14*0.746*$K$6*$K$7)/('TEFC 1800 Values'!G10)","v":2000.4469273743016},45.724501197126983,null,null,{"$f":"($A14*0.746*$K$6*$K$7)/('TEFC 1800 Values'!E10)","v":2199.5085995085992},{"$f":"($A14*0.746*$K$6*$K$7)/('TEFC 1800 Values'!G10)","v":2000.4469273743016},{"$f":"M14-N14","v":199.06167213429762}]
[5,null,{"$f":"($A15*0.746*$K$6*$K$7)/('TEFC 1800 Values'!E11)","v":3580.5135589152865},{"$f":"($A15*0.746*$K$6*$K$7)/('TEFC 1800 Values'!F11)","v":3410.2857142857142},170.22784462957225,null,null,{"$f":"($A15*0.746*$K$6*$K$7)/('TEFC 1800 Values'!F11)","v":3410.2857142857142},{"$f":"($A15*0.746*$K$6*$K$7)/('TEFC 1800 Values'!G11)","v":3334.078212290503},76.20750199521126,null,null,{"$f":"($A15*0.746*$K$6*$K$7)/('TEFC 1800 Values'!E11)","v":3580.5135589152865},{"$f":"($A15*0.746*$K$6*$K$7)/('TEFC 1800 Values'!G11)","v":3334.078212290503},246.43534662478351]
[7.5,null,{"$f":"($A16*0.746*$K$6*$K$7)/('TEFC 1800 Values'!E12)","v":5234.4754999415272},{"$f":"($A16*0.746*$K$6*$K$7)/('TEFC 1800 Values'!F12)","v":5001.117318435754},233.35818150577325,null,null,{"$f":"($A16*0.746*$K$6*$K$7)/('TEFC 1800 Values'!F12)","v":5001.117318435754},{"$f":"($A16*0.746*$K$6*$K$7)/('TEFC 1800 Values'!G12)","v":4881.1341330425303},119.98318539322372,null,null,{"$f":"($A16*0.746*$K$6*$K$7)/('TEFC 1800 Values'!E12)","v":5234.4754999415272},{"$f":"($A16*0.746*$K$6*$K$7)/('TEFC 1800 Values'!G12)","v":4881.1341330425303},353.34136689899697]
[10,null,{"$f":"($A17*0.746*$K$6*$K$7)/('TEFC 1800 Values'!E13)","v":6961.390411757844},{"$f":"($A17*0.746*$K$6*$K$7)/('TEFC 1800 Values'!F13)","v":6668.1564245810059},293.23398717683813,null,null,{"$f":"($A17*0.746*$K$6*$K$7)/('TEFC 1800 Values'!F13)","v":6668.1564245810059},{"$f":"($A17*0.746*$K$6*$K$7)/('TEFC 1800 Values'!G13)","v":6508.1788440567061},159.97758052429981,null,null,{"$f":"($A17*0.746*$K$6*$K$7)/('TEFC 1800 Values'!E13)","v":6961.390411757844},{"$f":"($A17*0.746*$K$6*$K$7)/('TEFC 1800 Values'!G13)","v":6508.1788440567061},453.21156770113794]
[15,null,{"$f":"($A18*0.746*$K$6*$K$7)/('TEFC 1800 Values'!E14)","v":10333.602678056101},{"$f":"($A18*0.746*$K$6*$K$7)/('TEFC 1800 Values'!F14)","v":9837.3626373626375},496.24004069346302,null,null,{"$f":"($A18*0.746*$K$6*$K$7)/('TEFC 1800 Values'!F14)","v":9837.3626373626375},{"$f":"($A18*0.746*$K$6*$K$7)/('TEFC 1800 Values'!G14)","v":9688.3116883116872},149.05094905095029,null,null,{"$f":"($A18*0.746*$K$6*$K$7)/('TEFC 1800 Values'!E14)","v":10333.602678056101},{"$f":"($A18*0.746*$K$6*$K$7)/('TEFC 1800 Values'!G14)","v":9688.3116883116872},645.29098974441331]
[20,null,{"$f":"($A19*0.746*$K$6*$K$7)/('TEFC 1800 Values'!E15)","v":13483.958427474017},{"$f":"($A19*0.746*$K$6*$K$7)/('TEFC 1800 Values'!F15)","v":13116.483516483517},367.47491099050058,null,null,{"$f":"($A19*0.746*$K$6*$K$7)/('TEFC 1800 Values'!F15)","v":13116.483516483517},{"$f":"($A19*0.746*$K$6*$K$7)/('TEFC 1800 Values'!G15)","v":12834.408602150537},282.07491433297946,null,null,{"$f":"($A19*0.746*$K$6*$K$7)/('TEFC 1800 Values'!E15)","v":13483.958427474017},{"$f":"($A19*0.746*$K$6*$K$7)/('TEFC 1800 Values'!G15)","v":12834.408602150537},649.54982532348004]
[25,null,{"$f":"($A20*0.746*$K$6*$K$7)/('TEFC 1800 Values'!E16)","v":16707.726763717805},{"$f":"($A20*0.746*$K$6*$K$7)/('TEFC 1800 Values'!F16)","v":16147.186147186147},560.54061653165809,null,null,{"$f":"($A20*0.746*$K$6*$K$7)/('TEFC 1800 Values'!F16)","v":16147.186147186147},{"$f":"($A20*0.746*$K$6*$K$7)/('TEFC 1800 Values'!G16)","v":15940.170940170941},207.01520701520531,null,null,{"$f":"($A20*0.746*$K$6*$K$7)/('TEFC 1800 Values'!E16)","v":16707.726763717805},{"$f":"($A20*0.746*$K$6*$K$7)/('TEFC 1800 Values'!G16)","v":15940.170940170941},767.55582354686339]
[30,null,{"$f":"($A21*0.746*$K$6*$K$7)/('TEFC 1800 Values'!E17)","v":19991.067440821796},{"$f":"($A21*0.746*$K$6*$K$7)/('TEFC 1800 Values'!F17)","v":19376.623376623374},614.44406419842198,null,null,{"$f":"($A21*0.746*$K$6*$K$7)/('TEFC 1800 Values'!F17)","v":19376.623376623374},{"$f":"($A21*0.746*$K$6*$K$7)/('TEFC 1800 Values'!G17)","v":19128.205128205129},248.41824841824564,null,null,{"$f":"($A21*0.746*$K$6*$K$7)/('TEFC 1800 Values'!E17)","v":19991.067440821796},{"$f":"($A21*0.746*$K$6*$K$7)/('TEFC 1800 Values'!G17)","v":19128.205128205129},862.86231261666762]
[40,null,{"$f":"($A22*0.746*$K$6*$K$7)/('TEFC 1800 Values'!E18)","v":26468.566359906865},{"$f":"($A22*0.746*$K$6*$K$7)/('TEFC 1800 Values'!F18)","v":25668.817204301075},799.74915560579029,null,null,{"$f":"($A22*0.746*$K$6*$K$7)/('TEFC 1800 Values'!F18)","v":25668.817204301075},{"$f":"($A22*0.746*$K$6*$K$7)/('TEFC 1800 Values'!G18)","v":25368.756641870354},300.06056243072089,null,null,{"$f":"($A22*0.746*$K$6*$K$7)/('TEFC 1800 Values'!E18)","v":26468.566359906865},{"$f":"($A22*0.746*$K$6*$K$7)/('TEFC 1800 Values'!G18)","v":25368.756641870354},1099.8097180365112]
[50,null,{"$f":"($A23*0.746*$K$6*$K$7)/('TEFC 1800 Values'!E19)","v":32676.303109943059},{"$f":"($A23*0.746*$K$6*$K$7)/('TEFC 1800 Values'!F19)","v":32086.021505376346},590.28160456671321,null,null,{"$f":"($A23*0.746*$K$6*$K$7)/('TEFC 1800 Values'!F19)","v":32086.021505376346},{"$f":"($A23*0.746*$K$6*$K$7)/('TEFC 1800 Values'!G19)","v":31576.719576719577},509.30192865676872,null,null,{"$f":"($A23*0.746*$K$6*$K$7)/('TEFC 1800 Values'!E19)","v":32676.303109943059},{"$f":"($A23*0.746*$K$6*$K$7)/('TEFC 1800 Values'!G19)","v":31576.719576719577},1099.5835332234819]
[60,null,{"$f":"($A24*0.746*$K$6*$K$7)/('TEFC 1800 Values'!E20)","v":39027.792915531332},{"$f":"($A24*0.746*$K$6*$K$7)/('TEFC 1800 Values'!F20)","v":38256.410256410258},771.38265912107454,null,null,{"$f":"($A24*0.746*$K$6*$K$7)/('TEFC 1800 Values'!F20)","v":38256.410256410258},{"$f":"($A24*0.746*$K$6*$K$7)/('TEFC 1800 Values'!G20)","v":37692.631578947367},563.77867746289121,null,null,{"$f":"($A24*0.746*$K$6*$K$7)/('TEFC 1800 Values'!E20)","v":39027.792915531332},{"$f":"($A24*0.746*$K$6*$K$7)/('TEFC 1800 Values'!G20)","v":37692.631578947367},1335.1613365839657]
[75,null,{"$f":"($A25*0.746*$K$6*$K$7)/('TEFC 1800 Values'!E21)","v":48821.989528795806},{"$f":"($A25*0.746*$K$6*$K$7)/('TEFC 1800 Values'!F21)","v":47566.418703506912},1255.5708252888944,null,null,{"$f":"($A25*0.746*$K$6*$K$7)/('TEFC 1800 Values'!F21)","v":47566.418703506912},{"$f":"($A25*0.746*$K$6*$K$7)/('TEFC 1800 Values'!G21)","v":46918.238993710685},648.17970979622623,null,null,{"$f":"($A25*0.746*$K$6*$K$7)/('TEFC 1800 Values'!E21)","v":48821.989528795806},{"$f":"($A25*0.746*$K$6*$K$7)/('TEFC 1800 Values'!G21)","v":46918.238993710685},1903.7505350851206]
[100,null,{"$f":"($A26*0.746*$K$6*$K$7)/('TEFC 1800 Values'!E22)","v":64693.766937669374},{"$f":"($A26*0.746*$K$6*$K$7)/('TEFC 1800 Values'!F22)","v":63153.439153439154},1540.3277842302195,null,null,{"$f":"($A26*0.746*$K$6*$K$7)/('TEFC 1800 Values'!F22)","v":63153.439153439154},{"$f":"($A26*0.746*$K$6*$K$7)/('TEFC 1800 Values'!G22)","v":62557.65199161425},595.78716182490462,null,null,{"$f":"($A26*0.746*$K$6*$K$7)/('TEFC 1800 Values'!E22)","v":64693.766937669374},{"$f":"($A26*0.746*$K$6*$K$7)/('TEFC 1800 Values'!G22)","v":62557.65199161425},2136.1149460551242]
[125,null,{"$f":"($A27*0.746*$K$6*$K$7)/('TEFC 1800 Values'!E23)","v":80919.839461980693},{"$f":"($A27*0.746*$K$6*$K$7)/('TEFC 1800 Values'!F23)","v":78941.798941798945},1978.0405201817484,null,null,{"$f":"($A27*0.746*$K$6*$K$7)/('TEFC 1800 Values'!F23)","v":78941.798941798945},{"$f":"($A27*0.746*$K$6*$K$7)/('TEFC 1800 Values'!G23)","v":78197.064989517821},744.73395228112349,null,null,{"$f":"($A27*0.746*$K$6*$K$7)/('TEFC 1800 Values'!E23)","v":80919.839461980693},{"$f":"($A27*0.746*$K$6*$K$7)/('TEFC 1800 Values'!G23)","v":78197.064989517821},2722.7744724628719]
[150,null,{"$f":"($A28*0.746*$K$6*$K$7)/('TEFC 1800 Values'!E24)","v":96227.023540793292},{"$f":"($A28*0.746*$K$6*$K$7)/('TEFC 1800 Values'!F24)","v":94231.578947368427},1995.4445934248652,null,null,{"$f":"($A28*0.746*$K$6*$K$7)/('TEFC 1800 Values'!F24)","v":94231.578947368427},{"$f":"($A28*0.746*$K$6*$K$7)/('TEFC 1800 Values'!G24)","v":93444.676409185806},786.90253818262136,null,null,{"$f":"($A28*0.746*$K$6*$K$7)/('TEFC 1800 Values'!E24)","v":96227.023540793292},{"$f":"($A28*0.746*$K$6*$K$7)/('TEFC 1800 Values'!G24)","v":93444.676409185806},2782.3471316074865]
[200,null,{"$f":"($A29*0.746*$K$6*$K$7)/('TEFC 1800 Values'!E25)","v":127603.16442163779},{"$f":"($A29*0.746*$K$6*$K$7)/('TEFC 1800 Values'!F25)","v":125642.10526315789},1961.0591584798967,null,null,{"$f":"($A29*0.746*$K$6*$K$7)/('TEFC 1800 Values'!F25)","v":125642.10526315789},{"$f":"($A29*0.746*$K$6*$K$7)/('TEFC 1800 Values'!G25)","v":124074.84407484408},1567.2611883138161,null,null,{"$f":"($A29*0.746*$K$6*$K$7)/('TEFC 1800 Values'!E25)","v":127603.16442163779},{"$f":"($A29*0.746*$K$6*$K$7)/('TEFC 1800 Values'!G25)","v":124074.84407484408},3528.3203467937128]
[]
["(hp)",null,"Pre-EPAct ","EISA","Δ Pre-EPAct => EISA",null,null,"EISA","Above EISA","Δ EISA =>           Above EISA",null,null,"Pre-EPAct ","Above EISA","Δ Pre-EPAct => Above EISA"]
[250,null,{"$f":"($A32*0.746*$K$6*$K$7)/('TEFC 1800 Values'!E29)","v":158352.79133941839},{"$f":"($A32*0.746*$K$6*$K$7)/('TEFC 1800 Values'!F29)","v":157052.63157894736},{"$f":"C32-D32","v":1300.1597604710259},null,null,{"$f":"($A32*0.746*$K$6*$K$7)/('TEFC 1800 Values'!F29)","v":157052.63157894736},{"$f":"($A32*0.746*$K$6*$K$7)/('TEFC 1800 Values'!G29)","v":155093.5550935551},{"$f":"H32-I32","v":1959.0764853922592},null,null,{"$f":"($A32*0.746*$K$6*$K$7)/('TEFC 1800 Values'!E29)","v":158352.79133941839},{"$f":"($A32*0.746*$K$6*$K$7)/('TEFC 1800 Values'!G29)","v":155093.5550935551},{"$f":"M32-N32","v":3259.2362458632851}]
[300,null,{"$f":"($A33*0.746*$K$6*$K$7)/('TEFC 1800 Values'!E30)","v":189580.68614993646},{"$f":"($A33*0.746*$K$6*$K$7)/('TEFC 1800 Values'!F30)","v":187672.95597484274},1907.7301750937186,null,null,{"$f":"($A33*0.746*$K$6*$K$7)/('TEFC 1800 Values'!F30)","v":187672.95597484274},{"$f":"($A33*0.746*$K$6*$K$7)/('TEFC 1800 Values'!G30)","v":186112.26611226611},1560.6898625766335,null,null,{"$f":"($A33*0.746*$K$6*$K$7)/('TEFC 1800 Values'!E30)","v":189580.68614993646},{"$f":"($A33*0.746*$K$6*$K$7)/('TEFC 1800 Values'!G30)","v":186112.26611226611},3468.420037670352]
[350,null,{"$f":"($A34*0.746*$K$6*$K$7)/('TEFC 1800 Values'!E31)","v":220896.78510998312},{"$f":"($A34*0.746*$K$6*$K$7)/('TEFC 1800 Values'!F31)","v":218951.78197064993},1945.0031393331883,null,null,{"$f":"($A34*0.746*$K$6*$K$7)/('TEFC 1800 Values'!F31)","v":218951.78197064993},{"$f":"($A34*0.746*$K$6*$K$7)/('TEFC 1800 Values'!G31)","v":217130.97713097717},1820.8048396727536,null,null,{"$f":"($A34*0.746*$K$6*$K$7)/('TEFC 1800 Values'!E31)","v":220896.78510998312},{"$f":"($A34*0.746*$K$6*$K$7)/('TEFC 1800 Values'!G31)","v":217130.97713097717},3765.8079790059419]
[400,null,{"$f":"($A35*0.746*$K$6*$K$7)/('TEFC 1800 Values'!E32)","v":251734.68311715702},{"$f":"($A35*0.746*$K$6*$K$7)/('TEFC 1800 Values'!F32)","v":250230.607966457},1504.0751507000241,null,null,{"$f":"($A35*0.746*$K$6*$K$7)/('TEFC 1800 Values'!F32)","v":250230.607966457},{"$f":"($A35*0.746*$K$6*$K$7)/('TEFC 1800 Values'!G32)","v":248149.68814968815},2080.9198167688446,null,null,{"$f":"($A35*0.746*$K$6*$K$7)/('TEFC 1800 Values'!E32)","v":251734.68311715702},{"$f":"($A35*0.746*$K$6*$K$7)/('TEFC 1800 Values'!G32)","v":248149.68814968815},3584.9949674688687]
[450,null,{"$f":"($A36*0.746*$K$6*$K$7)/('TEFC 1800 Values'!E33)","v":283052.2765598651},{"$f":"($A36*0.746*$K$6*$K$7)/('TEFC 1800 Values'!F33)","v":281509.43396226416},1542.8425976009457,null,null,{"$f":"($A36*0.746*$K$6*$K$7)/('TEFC 1800 Values'!F33)","v":281509.43396226416},{"$f":"($A36*0.746*$K$6*$K$7)/('TEFC 1800 Values'!G33)","v":279168.39916839916},2341.0347938649938,null,null,{"$f":"($A36*0.746*$K$6*$K$7)/('TEFC 1800 Values'!E33)","v":283052.2765598651},{"$f":"($A36*0.746*$K$6*$K$7)/('TEFC 1800 Values'!G33)","v":279168.39916839916},3883.8773914659396]
[500,null,{"$f":"($A37*0.746*$K$6*$K$7)/('TEFC 1800 Values'!E34)","v":314568.8382880034},{"$f":"($A37*0.746*$K$6*$K$7)/('TEFC 1800 Values'!F34)","v":311482.254697286},3086.5835907174041,null,null,{"$f":"($A37*0.746*$K$6*$K$7)/('TEFC 1800 Values'!F34)","v":311482.254697286},{"$f":"($A37*0.746*$K$6*$K$7)/('TEFC 1800 Values'!G34)","v":310187.1101871102},1295.1445101758,null,null,{"$f":"($A37*0.746*$K$6*$K$7)/('TEFC 1800 Values'!E34)","v":314568.8382880034},{"$f":"($A37*0.746*$K$6*$K$7)/('TEFC 1800 Values'!G34)","v":310187.1101871102},4381.7281008932041]
[]
["Please see the following \"Values\" sheet for efficiency data and descriptions."]

{"sheet":"TEFC 1800 Values","index":6,"n_rows":34,"n_cols":16,"rows_kept":34,"cut":false,"hidden":false,"merged":[[38,0,38,5],[38,6,38,9],[4,3,5,3],[4,4,5,4],[4,5,5,5],[4,8,9,13],[36,6,36,9],[37,0,37,5],[37,6,37,9],[25,8,30,13],[25,14,30,19],[4,6,5,6],[26,3,27,3],[26,4,27,4],[26,5,27,5],[26,6,27,6],[0,0,2,20],[4,14,9,19],[10,8,15,13],[10,14,15,19],[16,8,24,13],[16,14,24,19]]}
["Efficiency Values Used to Estimate Annual Energy Savings\n       TEFC    ·    1800 RPM    ·    Full-load Operation    ·    Nominal Efficiency                                \nEstimated Annual Energy Cost = (horsepower x annual operating hours x cost of electricity x 0.746) / (efficiency)"]
[]
[]
[]
[null,null,null,"Size (hp)","Pre-EPAct","EPAct","EISA",null,"Pre-Energy Policy Act (Pre-EPAct) refers to efficiency levels lower than the federal nominal efficiency standards established by EPAct. Pre-EPAct efficiency levels are an estimated average of nominal efficiency for motors manufactured before the EPAct standards. Pre-EPAct efficiency is calculated by the Department of Energy and used in the MotorMaster+ tool (v 4.01.01, September 2010).",null,null,null,null,null,"For more information, see: http://www1.eere.energy.gov/industry/bestpractices/software_motormaster.html"]
[]
[null,null,null,1,76.680000000000007,82.5,85.5]
[null,null,null,1.5,79.08,84,86.5]
[null,null,null,2,80.83,84,86.5]
[null,null,null,3,81.400000000000006,87.5,89.5]
[null,null,null,5,83.34,87.5,89.5,null,"Energy Policy Act (EPAct) refers to the federal nominal efficiency levels established by the 1992 Energy Policy Act, which became effective in 1997. EPAct established federal nominal efficiency standards for 1-200 hp general purpose motors 1200rpm, 1800 rpm, and 3600 rpm. EPAct efficiency is equivalent to NEMA MG1-2007 Table 12-11 for 1-200 hp motors. EPAct did not establish efficiency standards for 201-500 hp motors. ",null,null,null,null,null,"For more information, see:\nhttp://www1.eere.energy.gov/industry/bestpractices/pdfs/e-pact92.pdf"]
[null,null,null,7.5,85.51,89.5,91.7]
[null,null,null,10,85.73,89.5,91.7]
[null,null,null,15,86.63,91,92.4]
[null,null,null,20,88.52,91,93]
[null,null,null,25,89.3,92.4,93.6]
[null,null,null,30,89.56,92.4,93.6,null,"Energy Independence and Security Act (EISA) refers to the federal nominal efficiency standards established by the 2007 Energy Independence and Security Act, which became effective December 2010. For 1-200 hp general purpose motors 1200 rpm, 1800 rpm, 3600 rpm, EISA is equivalent to NEMA Premium®.* For 201-500 hp motors EISA established different federal nominal efficiency standards, which are equivalent to NEMA MG1-2007 Table 12-11. For 201-500 hp NEMA Premium nominal efficiency levels meet or exceed NEMA MG1-2007, Table 12-12.",null,null,null,null,null,"For more information, see:  http://www1.eere.energy.gov/buildings/appliance_standards/commercial/electric_motors.html"]
[null,null,null,40,90.19,93,94.1]
[null,null,null,50,91.32,93,94.5]
[null,null,null,60,91.75,93.6,95]
[null,null,null,75,91.68,94.1,95.4]
[null,null,null,100,92.25,94.5,95.4]
[null,null,null,125,92.19,94.5,95.4]
[null,null,null,150,93.03,95,95.8]
[null,null,null,200,93.54,95,96.2]
[null,null,null,null,null,null,null,null,"Above EISA refers to efficiency levels that exceed the EISA federal standards. For 201-500 hp general purpose motors 1200 rpm, 1800 rpm, 3600 rpm, Above EISA is equivalent to NEMA Premium,* with nominal efficiency levels that meet or exceed NEMA MG1-2007, Table 12-12. ",null,null,null,null,null,"For more information, see:\nhttp://www.nema.org/stds/mg1.cfm"]
[null,null,null,"Size (hp)","Pre-EPAct","EISA","Above EISA"]
[]
[null,null,null,250,94.22,95,96.2]
[null,null,null,300,94.44,95.4,96.2]
[null,null,null,350,94.56,95.4,96.2]
[null,null,null,400,94.83,95.4,96.2]
[null,null,null,450,94.88,95.4,96.2,null,"*NEMA Premium is a trademark owned by the National Electrical Manufacturers Association,",null,null,null,null,null,null,"www.nema.org"]
[null,null,null,500,94.86,95.8,96.2]

{"sheet":"ODP 1800 Savings","index":7,"n_rows":39,"n_cols":15,"rows_kept":39,"cut":false,"hidden":false,"merged":[[40,0,41,15],[5,3,6,5],[5,7,5,9],[6,7,6,9],[26,14,26,15],[19,14,19,15],[20,14,20,15],[21,14,21,15],[34,14,34,15],[17,14,17,15],[30,9,30,10],[26,9,26,10],[27,9,27,10],[31,9,31,10],[8,12,8,13],[8,14,8,15],[9,14,9,15],[10,14,10,15],[11,14,11,15],[25,9,25,10],[0,3,2,13],[23,14,23,15],[24,14,24,15],[15,14,15,15],[23,4,23,5],[24,4,24,5],[16,14,16,15],[10,9,10,10],[11,9,11,10],[12,9,12,10],[13,9,13,10],[14,9,14,10],[36,14,36,15],[27,14,27,15],[28,14,28,15],[30,14,30,15],[31,14,31,15],[35,14,35,15],[32,14,32,15],[33,14,33,15],[36,9,36,10],[32,9,32,10],[33,9,33,10],[34,9,34,10],[35,9,35,10],[28,9,28,10],[17,9,17,10],[18,9,18,10],[25,14,25,15],[22,14,22,15],[24,9,24,10],[18,14,18,15],[19,9,19,10],[20,9,20,10],[21,9,21,10],[22,9,22,10],[23,9,23,10],[14,4,14,5],[36,4,36,5],[30,4,30,5],[31,4,31,5],[32,4,32,5],[33,4,33,5],[34,4,34,5],[35,4,35,5],[8,7,8,8],[10,4,10,5],[8,4,8,5],[9,4,9,5],[38,0,38,16],[19,4,19,5],[20,4,20,5],[21,4,21,5],[22,4,22,5],[26,4,26,5],[28,4,28,5],[27,4,27,5],[25,4,25,5],[17,4,17,5],[11,4,11,5],[18,4,18,5],[39,0,39,16],[42,0,42,15],[3,13,7,15],[15,9,15,10],[15,4,15,5],[16,4,16,5],[12,4,12,5],[13,4,13,5],[16,9,16,10],[12,14,12,15],[13,14,13,15],[14,14,14,15],[8,9,8,10],[9,9,9,10],[8,0,9,0],[8,2,8,3]]}
[null,null,null,"Estimated Annual Energy Savings from Upgrading Motor Efficiency\n  ODP    ·    1800 RPM    ·    Full-load Operation    ·    Nominal Efficiency                                \nEstimated Annual Energy Cost = (horsepower x annual operating hours x cost of electricity x 0.746) / (efficiency)"]
[]
[]
[null,null,null,null,null,null,null,null,null,null,null,null,null,"Learn more about saving money through sound motor management.\nFor additional tools and resources, visit: www.motorsmatter.org."]
[]
[null,null,null,"Enter Appropriate Values for:",null,null,null,"Annual Operating Hours :",null,null,8000,null,"hrs per year"]
[null,null,null,null,null,null,null,"Cost of Electricity : ",null,null,10,null,"¢ per kWh"]
[]
["Motor Size (hp)",null,"Operating Costs",null,"Energy Savings",null,null,"Operating Costs",null,"Energy Savings",null,null,"Operating Costs",null,"Energy Savings"]
[null,null,"Pre-EPAct ","EPAct","Δ Pre-EPAct => EPAct",null,null,"EPAct","EISA","Δ EPAct => EISA",null,null,"Pre-EPAct ","EISA","Δ Pre-EPAct =>\nEISA"]
[1,null,{"$f":"($A11*0.746*$K$6*$K$7)/('ODP 1800 Values'!E7)","v":769.56802063185046},{"$f":"($A11*0.746*$K$6*$K$7)/('ODP 1800 Values'!F7)","v":723.39393939393938},{"$f":"C11-D11","v":46.174081237911082},null,null,{"$f":"($A11*0.746*$K$6*$K$7)/('ODP 1800 Values'!F7)","v":723.39393939393938},{"$f":"($A11*0.746*$K$6*$K$7)/('ODP 1800 Values'!G7)","v":698.01169590643269},{"$f":"H11-I11","v":25.382243487506685},null,null,{"$f":"($A11*0.746*$K$6*$K$7)/('ODP 1800 Values'!E7)","v":769.56802063185046},{"$f":"($A11*0.746*$K$6*$K$7)/('ODP 1800 Values'!G7)","v":698.01169590643269},{"$f":"M11-N11","v":71.556324725417767}]
[1.5,null,{"$f":"($A12*0.746*$K$6*$K$7)/('ODP 1800 Values'!E8)","v":1128.3085455003782},{"$f":"($A12*0.746*$K$6*$K$7)/('ODP 1800 Values'!F8)","v":1065.7142857142858},{"$f":"C12-D12","v":62.59425978609238},null,null,{"$f":"($A12*0.746*$K$6*$K$7)/('ODP 1800 Values'!F8)","v":1065.7142857142858},{"$f":"($A12*0.746*$K$6*$K$7)/('ODP 1800 Values'!G8)","v":1034.913294797688},30.800990916597812,null,null,{"$f":"($A12*0.746*$K$6*$K$7)/('ODP 1800 Values'!E8)","v":1128.3085455003782},{"$f":"($A12*0.746*$K$6*$K$7)/('ODP 1800 Values'!G8)","v":1034.913294797688},{"$f":"M12-N12","v":93.395250702690191}]
[2,null,{"$f":"($A13*0.746*$K$6*$K$7)/('ODP 1800 Values'!E9)","v":1481.9965234666004},{"$f":"($A13*0.746*$K$6*$K$7)/('ODP 1800 Values'!F9)","v":1420.952380952381},61.044142514219402,null,null,{"$f":"($A13*0.746*$K$6*$K$7)/('ODP 1800 Values'!F9)","v":1420.952380952381},{"$f":"($A13*0.746*$K$6*$K$7)/('ODP 1800 Values'!G9)","v":1379.8843930635837},41.067987888797234,null,null,{"$f":"($A13*0.746*$K$6*$K$7)/('ODP 1800 Values'!E9)","v":1481.9965234666004},{"$f":"($A13*0.746*$K$6*$K$7)/('ODP 1800 Values'!G9)","v":1379.8843930635837},{"$f":"M13-N13","v":102.11213040301664}]
[3,null,{"$f":"($A14*0.746*$K$6*$K$7)/('ODP 1800 Values'!E10)","v":2173.3430444282594},{"$f":"($A14*0.746*$K$6*$K$7)/('ODP 1800 Values'!F10)","v":2069.8265895953759},103.51645483288348,null,null,{"$f":"($A14*0.746*$K$6*$K$7)/('ODP 1800 Values'!F10)","v":2069.8265895953759},{"$f":"($A14*0.746*$K$6*$K$7)/('ODP 1800 Values'!G10)","v":2000.4469273743016},69.379662221074341,null,null,{"$f":"($A14*0.746*$K$6*$K$7)/('ODP 1800 Values'!E10)","v":2173.3430444282594},{"$f":"($A14*0.746*$K$6*$K$7)/('ODP 1800 Values'!G10)","v":2000.4469273743016},{"$f":"M14-N14","v":172.89611705395782}]
[5,null,{"$f":"($A15*0.746*$K$6*$K$7)/('ODP 1800 Values'!E11)","v":3559.5848741500658},{"$f":"($A15*0.746*$K$6*$K$7)/('ODP 1800 Values'!F11)","v":3410.2857142857142},149.29915986435162,null,null,{"$f":"($A15*0.746*$K$6*$K$7)/('ODP 1800 Values'!F11)","v":3410.2857142857142},{"$f":"($A15*0.746*$K$6*$K$7)/('ODP 1800 Values'!G11)","v":3334.078212290503},76.20750199521126,null,null,{"$f":"($A15*0.746*$K$6*$K$7)/('ODP 1800 Values'!E11)","v":3559.5848741500658},{"$f":"($A15*0.746*$K$6*$K$7)/('ODP 1800 Values'!G11)","v":3334.078212290503},225.50666185956288]
[7.5,null,{"$f":"($A16*0.746*$K$6*$K$7)/('ODP 1800 Values'!E12)","v":5255.9887271019261},{"$f":"($A16*0.746*$K$6*$K$7)/('ODP 1800 Values'!F12)","v":5057.6271186440681},198.36160845785798,null,null,{"$f":"($A16*0.746*$K$6*$K$7)/('ODP 1800 Values'!F12)","v":5057.6271186440681},{"$f":"($A16*0.746*$K$6*$K$7)/('ODP 1800 Values'!G12)","v":4918.6813186813188},138.94579996274933,null,null,{"$f":"($A16*0.746*$K$6*$K$7)/('ODP 1800 Values'!E12)","v":5255.9887271019261},{"$f":"($A16*0.746*$K$6*$K$7)/('ODP 1800 Values'!G12)","v":4918.6813186813188},337.30740842060732]
[10,null,{"$f":"($A17*0.746*$K$6*$K$7)/('ODP 1800 Values'!E13)","v":6932.2801719131139},{"$f":"($A17*0.746*$K$6*$K$7)/('ODP 1800 Values'!F13)","v":6668.1564245810059},264.123747332108,null,null,{"$f":"($A17*0.746*$K$6*$K$7)/('ODP 1800 Values'!F13)","v":6668.1564245810059},{"$f":"($A17*0.746*$K$6*$K$7)/('ODP 1800 Values'!G13)","v":6508.1788440567061},159.97758052429981,null,null,{"$f":"($A17*0.746*$K$6*$K$7)/('ODP 1800 Values'!E13)","v":6932.2801719131139},{"$f":"($A17*0.746*$K$6*$K$7)/('ODP 1800 Values'!G13)","v":6508.1788440567061},424.10132785640781]
[15,null,{"$f":"($A18*0.746*$K$6*$K$7)/('ODP 1800 Values'!E14)","v":10195.899772209568},{"$f":"($A18*0.746*$K$6*$K$7)/('ODP 1800 Values'!F14)","v":9837.3626373626375},358.53713484693071,null,null,{"$f":"($A18*0.746*$K$6*$K$7)/('ODP 1800 Values'!F14)","v":9837.3626373626375},{"$f":"($A18*0.746*$K$6*$K$7)/('ODP 1800 Values'!G14)","v":9625.8064516129034},211.55618574973414,null,null,{"$f":"($A18*0.746*$K$6*$K$7)/('ODP 1800 Values'!E14)","v":10195.899772209568},{"$f":"($A18*0.746*$K$6*$K$7)/('ODP 1800 Values'!G14)","v":9625.8064516129034},570.09332059666485]
[20,null,{"$f":"($A19*0.746*$K$6*$K$7)/('ODP 1800 Values'!E15)","v":13517.553793884485},{"$f":"($A19*0.746*$K$6*$K$7)/('ODP 1800 Values'!F15)","v":13116.483516483517},401.07027740096783,null,null,{"$f":"($A19*0.746*$K$6*$K$7)/('ODP 1800 Values'!F15)","v":13116.483516483517},{"$f":"($A19*0.746*$K$6*$K$7)/('ODP 1800 Values'!G15)","v":12834.408602150537},282.07491433297946,null,null,{"$f":"($A19*0.746*$K$6*$K$7)/('ODP 1800 Values'!E15)","v":13517.553793884485},{"$f":"($A19*0.746*$K$6*$K$7)/('ODP 1800 Values'!G15)","v":12834.408602150537},683.14519173394729]
[25,null,{"$f":"($A20*0.746*$K$6*$K$7)/('ODP 1800 Values'!E16)","v":16781.014509054101},{"$f":"($A20*0.746*$K$6*$K$7)/('ODP 1800 Values'!F16)","v":16270.447110141766},510.56739891233519,null,null,{"$f":"($A20*0.746*$K$6*$K$7)/('ODP 1800 Values'!F16)","v":16270.447110141766},{"$f":"($A20*0.746*$K$6*$K$7)/('ODP 1800 Values'!G16)","v":15940.170940170941},330.27616997082441,null,null,{"$f":"($A20*0.746*$K$6*$K$7)/('ODP 1800 Values'!E16)","v":16781.014509054101},{"$f":"($A20*0.746*$K$6*$K$7)/('ODP 1800 Values'!G16)","v":15940.170940170941},840.84356888315961]
[30,null,{"$f":"($A21*0.746*$K$6*$K$7)/('ODP 1800 Values'!E17)","v":20148.54827819041},{"$f":"($A21*0.746*$K$6*$K$7)/('ODP 1800 Values'!F17)","v":19376.623376623374},771.9249015670357,null,null,{"$f":"($A21*0.746*$K$6*$K$7)/('ODP 1800 Values'!F17)","v":19376.623376623374},{"$f":"($A21*0.746*$K$6*$K$7)/('ODP 1800 Values'!G17)","v":19026.567481402762},350.055895220612,null,null,{"$f":"($A21*0.746*$K$6*$K$7)/('ODP 1800 Values'!E17)","v":20148.54827819041},{"$f":"($A21*0.746*$K$6*$K$7)/('ODP 1800 Values'!G17)","v":19026.567481402762},1121.9807967876477]
[40,null,{"$f":"($A22*0.746*$K$6*$K$7)/('ODP 1800 Values'!E18)","v":26524.444444444445},{"$f":"($A22*0.746*$K$6*$K$7)/('ODP 1800 Values'!F18)","v":25668.817204301075},855.62724014337073,null,null,{"$f":"($A22*0.746*$K$6*$K$7)/('ODP 1800 Values'!F18)","v":25668.817204301075},{"$f":"($A22*0.746*$K$6*$K$7)/('ODP 1800 Values'!G18)","v":25368.756641870354},300.06056243072089,null,null,{"$f":"($A22*0.746*$K$6*$K$7)/('ODP 1800 Values'!E18)","v":26524.444444444445},{"$f":"($A22*0.746*$K$6*$K$7)/('ODP 1800 Values'!G18)","v":25368.756641870354},1155.6878025740916]
[50,null,{"$f":"($A23*0.746*$K$6*$K$7)/('ODP 1800 Values'!E19)","v":32903.296945638991},{"$f":"($A23*0.746*$K$6*$K$7)/('ODP 1800 Values'!F19)","v":32086.021505376346},817.27544026264513,null,null,{"$f":"($A23*0.746*$K$6*$K$7)/('ODP 1800 Values'!F19)","v":32086.021505376346},{"$f":"($A23*0.746*$K$6*$K$7)/('ODP 1800 Values'!G19)","v":31576.719576719577},509.30192865676872,null,null,{"$f":"($A23*0.746*$K$6*$K$7)/('ODP 1800 Values'!E19)","v":32903.296945638991},{"$f":"($A23*0.746*$K$6*$K$7)/('ODP 1800 Values'!G19)","v":31576.719576719577},1326.5773689194139]
[60,null,{"$f":"($A24*0.746*$K$6*$K$7)/('ODP 1800 Values'!E20)","v":39224.449556358857},{"$f":"($A24*0.746*$K$6*$K$7)/('ODP 1800 Values'!F20)","v":38256.410256410258},968.03929994859936,null,null,{"$f":"($A24*0.746*$K$6*$K$7)/('ODP 1800 Values'!F20)","v":38256.410256410258},{"$f":"($A24*0.746*$K$6*$K$7)/('ODP 1800 Values'!G20)","v":37692.631578947367},563.77867746289121,null,null,{"$f":"($A24*0.746*$K$6*$K$7)/('ODP 1800 Values'!E20)","v":39224.449556358857},{"$f":"($A24*0.746*$K$6*$K$7)/('ODP 1800 Values'!G20)","v":37692.631578947367},1531.8179774114906]
[75,null,{"$f":"($A25*0.746*$K$6*$K$7)/('ODP 1800 Values'!E21)","v":48683.924298455517},{"$f":"($A25*0.746*$K$6*$K$7)/('ODP 1800 Values'!F21)","v":47566.418703506912},1117.505594948605,null,null,{"$f":"($A25*0.746*$K$6*$K$7)/('ODP 1800 Values'!F21)","v":47566.418703506912},{"$f":"($A25*0.746*$K$6*$K$7)/('ODP 1800 Values'!G21)","v":47115.789473684214},450.62922982269811,null,null,{"$f":"($A25*0.746*$K$6*$K$7)/('ODP 1800 Values'!E21)","v":48683.924298455517},{"$f":"($A25*0.746*$K$6*$K$7)/('ODP 1800 Values'!G21)","v":47115.789473684214},1568.1348247713031]
[100,null,{"$f":"($A26*0.746*$K$6*$K$7)/('ODP 1800 Values'!E22)","v":64813.205907906173},{"$f":"($A26*0.746*$K$6*$K$7)/('ODP 1800 Values'!F22)","v":63421.891604675882},1391.3143032302905,null,null,{"$f":"($A26*0.746*$K$6*$K$7)/('ODP 1800 Values'!F22)","v":63421.891604675882},{"$f":"($A26*0.746*$K$6*$K$7)/('ODP 1800 Values'!G22)","v":62557.65199161425},864.23961306163255,null,null,{"$f":"($A26*0.746*$K$6*$K$7)/('ODP 1800 Values'!E22)","v":64813.205907906173},{"$f":"($A26*0.746*$K$6*$K$7)/('ODP 1800 Values'!G22)","v":62557.65199161425},2255.5539162919231]
[125,null,{"$f":"($A27*0.746*$K$6*$K$7)/('ODP 1800 Values'!E23)","v":80937.398285776275},{"$f":"($A27*0.746*$K$6*$K$7)/('ODP 1800 Values'!F23)","v":78941.798941798945},1995.5993439773301,null,null,{"$f":"($A27*0.746*$K$6*$K$7)/('ODP 1800 Values'!F23)","v":78941.798941798945},{"$f":"($A27*0.746*$K$6*$K$7)/('ODP 1800 Values'!G23)","v":78197.064989517821},744.73395228112349,null,null,{"$f":"($A27*0.746*$K$6*$K$7)/('ODP 1800 Values'!E23)","v":80937.398285776275},{"$f":"($A27*0.746*$K$6*$K$7)/('ODP 1800 Values'!G23)","v":78197.064989517821},2740.3332962584536]
[150,null,{"$f":"($A28*0.746*$K$6*$K$7)/('ODP 1800 Values'!E24)","v":96455.123370326473},{"$f":"($A28*0.746*$K$6*$K$7)/('ODP 1800 Values'!F24)","v":94231.578947368427},2223.5444229580462,null,null,{"$f":"($A28*0.746*$K$6*$K$7)/('ODP 1800 Values'!F24)","v":94231.578947368427},{"$f":"($A28*0.746*$K$6*$K$7)/('ODP 1800 Values'!G24)","v":93444.676409185806},786.90253818262136,null,null,{"$f":"($A28*0.746*$K$6*$K$7)/('ODP 1800 Values'!E24)","v":96455.123370326473},{"$f":"($A28*0.746*$K$6*$K$7)/('ODP 1800 Values'!G24)","v":93444.676409185806},3010.4469611406676]
[200,null,{"$f":"($A29*0.746*$K$6*$K$7)/('ODP 1800 Values'!E25)","v":128302.69805439106},{"$f":"($A29*0.746*$K$6*$K$7)/('ODP 1800 Values'!F25)","v":125642.10526315789},2660.5927912331681,null,null,{"$f":"($A29*0.746*$K$6*$K$7)/('ODP 1800 Values'!F25)","v":125642.10526315789},{"$f":"($A29*0.746*$K$6*$K$7)/('ODP 1800 Values'!G25)","v":124592.9018789144},1049.2033842434903,null,null,{"$f":"($A29*0.746*$K$6*$K$7)/('ODP 1800 Values'!E25)","v":128302.69805439106},{"$f":"($A29*0.746*$K$6*$K$7)/('ODP 1800 Values'!G25)","v":124592.9018789144},3709.7961754766584]
[]
["(hp)",null,"Pre-EPAct ","EISA","Δ Pre-EPAct => EISA",null,null,"EISA","Above EISA","Δ EISA =>           Above EISA",null,null,"Pre-EPAct ","Above EISA","Δ Pre-EPAct => Above EISA"]
[250,null,{"$f":"($A32*0.746*$K$6*$K$7)/('ODP 1800 Values'!E29)","v":157983.90512494705},{"$f":"($A32*0.746*$K$6*$K$7)/('ODP 1800 Values'!F29)","v":156394.12997903564},{"$f":"C32-D32","v":1589.7751459114079},null,null,{"$f":"($A32*0.746*$K$6*$K$7)/('ODP 1800 Values'!F29)","v":156394.12997903564},{"$f":"($A32*0.746*$K$6*$K$7)/('ODP 1800 Values'!G29)","v":155741.127348643},{"$f":"H32-I32","v":653.00263039264246},null,null,{"$f":"($A32*0.746*$K$6*$K$7)/('ODP 1800 Values'!E29)","v":157983.90512494705},{"$f":"($A32*0.746*$K$6*$K$7)/('ODP 1800 Values'!G29)","v":155741.127348643},{"$f":"M32-N32","v":2242.7777763040503}]
[300,null,{"$f":"($A33*0.746*$K$6*$K$7)/('ODP 1800 Values'!E30)","v":189220.03804692454},{"$f":"($A33*0.746*$K$6*$K$7)/('ODP 1800 Values'!F30)","v":187672.95597484274},1547.082072081801,null,null,{"$f":"($A33*0.746*$K$6*$K$7)/('ODP 1800 Values'!F30)","v":187672.95597484274},{"$f":"($A33*0.746*$K$6*$K$7)/('ODP 1800 Values'!G30)","v":186889.35281837161},783.60315647113021,null,null,{"$f":"($A33*0.746*$K$6*$K$7)/('ODP 1800 Values'!E30)","v":189220.03804692454},{"$f":"($A33*0.746*$K$6*$K$7)/('ODP 1800 Values'!G30)","v":186889.35281837161},2330.6852285529312]
[350,null,{"$f":"($A34*0.746*$K$6*$K$7)/('ODP 1800 Values'!E31)","v":222071.01849883056},{"$f":"($A34*0.746*$K$6*$K$7)/('ODP 1800 Values'!F31)","v":218951.78197064993},3119.2365281806269,null,null,{"$f":"($A34*0.746*$K$6*$K$7)/('ODP 1800 Values'!F31)","v":218951.78197064993},{"$f":"($A34*0.746*$K$6*$K$7)/('ODP 1800 Values'!G31)","v":218037.57828810025},914.20368254967616,null,null,{"$f":"($A34*0.746*$K$6*$K$7)/('ODP 1800 Values'!E31)","v":222071.01849883056},{"$f":"($A34*0.746*$K$6*$K$7)/('ODP 1800 Values'!G31)","v":218037.57828810025},4033.4402107303031]
[400,null,{"$f":"($A35*0.746*$K$6*$K$7)/('ODP 1800 Values'!E32)","v":252000.42225271824},{"$f":"($A35*0.746*$K$6*$K$7)/('ODP 1800 Values'!F32)","v":250230.607966457},1769.814286261244,null,null,{"$f":"($A35*0.746*$K$6*$K$7)/('ODP 1800 Values'!F32)","v":250230.607966457},{"$f":"($A35*0.746*$K$6*$K$7)/('ODP 1800 Values'!G32)","v":249185.80375782881},1044.804208628193,null,null,{"$f":"($A35*0.746*$K$6*$K$7)/('ODP 1800 Values'!E32)","v":252000.42225271824},{"$f":"($A35*0.746*$K$6*$K$7)/('ODP 1800 Values'!G32)","v":249185.80375782881},2814.618494889437]
[450,null,{"$f":"($A36*0.746*$K$6*$K$7)/('ODP 1800 Values'!E33)","v":282813.81634372368},{"$f":"($A36*0.746*$K$6*$K$7)/('ODP 1800 Values'!F33)","v":280334.02922755742},2479.7871161662624,null,null,{"$f":"($A36*0.746*$K$6*$K$7)/('ODP 1800 Values'!F33)","v":280334.02922755742},{"$f":"($A36*0.746*$K$6*$K$7)/('ODP 1800 Values'!G33)","v":279168.39916839916},1165.6300591582549,null,null,{"$f":"($A36*0.746*$K$6*$K$7)/('ODP 1800 Values'!E33)","v":282813.81634372368},{"$f":"($A36*0.746*$K$6*$K$7)/('ODP 1800 Values'!G33)","v":279168.39916839916},3645.4171753245173]
[500,null,{"$f":"($A37*0.746*$K$6*$K$7)/('ODP 1800 Values'!E34)","v":314204.48562704015},{"$f":"($A37*0.746*$K$6*$K$7)/('ODP 1800 Values'!F34)","v":311482.254697286},2722.2309297541506,null,null,{"$f":"($A37*0.746*$K$6*$K$7)/('ODP 1800 Values'!F34)","v":311482.254697286},{"$f":"($A37*0.746*$K$6*$K$7)/('ODP 1800 Values'!G34)","v":310187.1101871102},1295.1445101758,null,null,{"$f":"($A37*0.746*$K$6*$K$7)/('ODP 1800 Values'!E34)","v":314204.48562704015},{"$f":"($A37*0.746*$K$6*$K$7)/('ODP 1800 Values'!G34)","v":310187.1101871102},4017.3754399299505]
[]
["Please see the following \"Values\" sheet for efficiency data and descriptions."]

{"sheet":"ODP 1800 Values","index":8,"n_rows":34,"n_cols":16,"rows_kept":34,"cut":false,"hidden":false,"merged":[[38,0,38,5],[38,6,38,9],[4,3,5,3],[4,4,5,4],[4,5,5,5],[4,8,9,13],[36,0,36,5],[36,6,36,9],[37,0,37,5],[37,6,37,9],[25,8,30,13],[25,14,30,19],[4,6,5,6],[26,3,27,3],[26,4,27,4],[26,5,27,5],[26,6,27,6],[0,0,2,20],[4,14,9,19],[10,8,15,13],[10,14,15,19],[16,8,24,13],[16,14,24,19]]}
["Efficiency Values Used to Estimate Annual Energy Savings\n       ODP    ·   1800 RPM    ·    Full-load Operation    ·    Nominal Efficiency                                \nEstimated Annual Energy Cost = (horsepower x annual operating hours x cost of electricity x 0.746) / (efficiency)"]
[]
[]
[]
[null,null,null,"Size (hp)","Pre-EPAct","EPAct","EISA",null,"Pre-Energy Policy Act (Pre-EPAct) refers to efficiency levels lower than the federal nominal efficiency standards established by EPAct. Pre-EPAct efficiency levels are an estimated average of nominal efficiency for motors manufactured before the EPAct standards. Pre-EPAct efficiency is calculated by the Department of Energy and used in the MotorMaster+ tool (v 4.01.01, September 2010).",null,null,null,null,null,"For more information, see: http://www1.eere.energy.gov/industry/bestpractices/software_motormaster.html"]
[]
[null,null,null,1,77.55,82.5,85.5]
[null,null,null,1.5,79.34,84,86.5]
[null,null,null,2,80.540000000000006,84,86.5]
[null,null,null,3,82.38,86.5,89.5]
[null,null,null,5,83.83,87.5,89.5,null,"Energy Policy Act (EPAct) refers to the federal nominal efficiency levels established by the 1992 Energy Policy Act, which became effective in 1997. EPAct established federal nominal efficiency standards for 1-200 hp general purpose motors 1200rpm, 1800 rpm, and 3600 rpm. EPAct efficiency is equivalent to NEMA MG1-2007 Table 12-11 for 1-200 hp motors. EPAct did not establish efficiency standards for 201-500 hp motors. ",null,null,null,null,null,"For more information, see:\nhttp://www1.eere.energy.gov/industry/bestpractices/pdfs/e-pact92.pdf"]
[null,null,null,7.5,85.16,88.5,91]
[null,null,null,10,86.09,89.5,91.7]
[null,null,null,15,87.8,91,93]
[null,null,null,20,88.3,91,93]
[null,null,null,25,88.91,91.7,93.6]
[null,null,null,30,88.86,92.4,94.1,null,"Energy Independence and Security Act (EISA) refers to the federal nominal efficiency standards established by the 2007 Energy Independence and Security Act, which became effective December 2010. For 1-200 hp general purpose motors 1200 rpm, 1800 rpm, 3600 rpm, EISA is equivalent to NEMA Premium®.* For 201-500 hp motors EISA established different federal nominal efficiency standards, which are equivalent to NEMA MG1-2007 Table 12-11. For 201-500 hp NEMA Premium nominal efficiency levels meet or exceed NEMA MG1-2007, Table 12-12.",null,null,null,null,null,"For more information, see:  http://www1.eere.energy.gov/buildings/appliance_standards/commercial/electric_motors.html"]
[null,null,null,40,90,93,94.1]
[null,null,null,50,90.69,93,94.5]
[null,null,null,60,91.29,93.6,95]
[null,null,null,75,91.94,94.1,95]
[null,null,null,100,92.08,94.1,95.4]
[null,null,null,125,92.17,94.5,95.4]
[null,null,null,150,92.81,95,95.8]
[null,null,null,200,93.03,95,95.8]
[null,null,null,null,null,null,null,null,"Above EISA refers to efficiency levels that exceed the EISA federal standards. For 201-500 hp general purpose motors 1200 rpm, 1800 rpm, 3600 rpm, Above EISA is equivalent to NEMA Premium,* with nominal efficiency levels that meet or exceed NEMA MG1-2007, Table 12-12. ",null,null,null,null,null,"For more information, see: http://www.nema.org/stds/mg1.cfm"]
[null,null,null,"Size (hp)","Pre-EPAct","EISA","Above EISA"]
[]
[null,null,null,250,94.44,95.4,95.8]
[null,null,null,300,94.62,95.4,95.8]
[null,null,null,350,94.06,95.4,95.8]
[null,null,null,400,94.73,95.4,95.8]
[null,null,null,450,94.96,95.8,96.2,null,"*NEMA Premium is a trademark owned by the National Electrical Manufacturers Association,",null,null,null,null,null,null,"www.nema.org"]
[null,null,null,500,94.97,95.8,96.2]

{"sheet":"TEFC 3600 Savings","index":9,"n_rows":39,"n_cols":15,"rows_kept":39,"cut":false,"hidden":false,"merged":[[13,9,13,10],[38,0,38,16],[39,0,39,16],[3,13,7,15],[15,9,15,10],[15,4,15,5],[16,4,16,5],[12,4,12,5],[13,4,13,5],[10,9,10,10],[15,14,15,15],[17,4,17,5],[26,4,26,5],[18,9,18,10],[25,14,25,15],[22,14,22,15],[19,9,19,10],[16,14,16,15],[22,9,22,10],[9,9,9,10],[25,4,25,5],[11,9,11,10],[12,9,12,10],[11,4,11,5],[14,9,14,10],[23,9,23,10],[24,9,24,10],[17,9,17,10],[16,9,16,10],[10,14,10,15],[11,14,11,15],[12,14,12,15],[8,0,9,0],[8,2,8,3],[8,7,8,8],[10,4,10,5],[8,4,8,5],[9,4,9,5],[13,14,13,15],[36,4,36,5],[30,4,30,5],[31,4,31,5],[32,4,32,5],[33,4,33,5],[36,9,36,10],[19,14,19,15],[20,14,20,15],[31,9,31,10],[32,9,32,10],[14,14,14,15],[34,9,34,10],[26,14,26,15],[34,14,34,15],[17,14,17,15],[18,14,18,15],[35,9,35,10],[20,9,20,10],[21,9,21,10],[5,3,6,5],[5,7,5,9],[6,7,6,9],[33,9,33,10],[34,4,34,5],[35,4,35,5],[14,4,14,5],[21,14,21,15],[23,14,23,15],[24,14,24,15],[8,14,8,15],[9,14,9,15],[28,9,28,10],[36,14,36,15],[27,14,27,15],[28,14,28,15],[30,14,30,15],[31,14,31,15],[32,14,32,15],[33,14,33,15],[35,14,35,15],[8,9,8,10],[0,3,2,13],[30,9,30,10],[26,9,26,10],[18,4,18,5],[19,4,19,5],[20,4,20,5],[21,4,21,5],[8,12,8,13],[22,4,22,5],[28,4,28,5],[23,4,23,5],[24,4,24,5],[27,4,27,5],[25,9,25,10],[27,9,27,10]]}
[null,null,null,"Estimated Annual Energy Savings from Upgrading Motor Efficiency\n  TEFC    ·    3600 RPM    ·    Full-load Operation    ·    Nominal Efficiency                                \nEstimated Annual Energy Cost = (horsepower x annual operating hours x cost of electricity x 0.746) / (efficiency)"]
[]
[]
[null,null,null,null,null,null,null,null,null,null,null,null,null,"Learn more about saving money through sound motor management.\nFor additional tools and resources, visit: www.motorsmatter.org."]
[]
[null,null,null,"Enter Appropriate Values for:",null,null,null,"Annual Operating Hours :",null,null,8000,null,"hrs per year"]
[null,null,null,null,null,null,null,"Cost of Electricity : ",null,null,10,null,"¢ per kWh"]
[]
["Size (hp)",null,"Operating Costs",null,"Energy Savings",null,null,"Operating Costs",null,"Energy Savings",null,null,"Operating Costs",null,"Energy Savings"]
[null,null,"Pre-EPAct ","EPAct","Δ Pre-EPAct => EPAct",null,null,"EPAct","EISA","Δ EPAct => EISA",null,null,"Pre-EPAct ","EISA","Δ Pre-EPAct =>\nEISA"]
[1,null,{"$f":"($A11*0.746*$K$6*$K$7)/('TEFC 3600 Values'!E7)","v":817.53424657534242},{"$f":"($A11*0.746*$K$6*$K$7)/('TEFC 3600 Values'!F7)","v":790.46357615894044},{"$f":"C11-D11","v":27.070670416401981},null,null,{"$f":"($A11*0.746*$K$6*$K$7)/('TEFC 3600 Values'!F7)","v":790.46357615894044},{"$f":"($A11*0.746*$K$6*$K$7)/('TEFC 3600 Values'!G7)","v":775.06493506493507},{"$f":"H11-I11","v":15.39864109400537},null,null,{"$f":"($A11*0.746*$K$6*$K$7)/('TEFC 3600 Values'!E7)","v":817.53424657534242},{"$f":"($A11*0.746*$K$6*$K$7)/('TEFC 3600 Values'!G7)","v":775.06493506493507},{"$f":"M11-N11","v":42.469311510407351}]
[1.5,null,{"$f":"($A12*0.746*$K$6*$K$7)/('TEFC 3600 Values'!E8)","v":1191.2175648702594},{"$f":"($A12*0.746*$K$6*$K$7)/('TEFC 3600 Values'!F8)","v":1085.090909090909},{"$f":"C12-D12","v":106.12665577935036},null,null,{"$f":"($A12*0.746*$K$6*$K$7)/('TEFC 3600 Values'!F8)","v":1085.090909090909},{"$f":"($A12*0.746*$K$6*$K$7)/('TEFC 3600 Values'!G8)","v":1065.7142857142858},19.376623376623229,null,null,{"$f":"($A12*0.746*$K$6*$K$7)/('TEFC 3600 Values'!E8)","v":1191.2175648702594},{"$f":"($A12*0.746*$K$6*$K$7)/('TEFC 3600 Values'!G8)","v":1065.7142857142858},{"$f":"M12-N12","v":125.50327915597359}]
[2,null,{"$f":"($A13*0.746*$K$6*$K$7)/('TEFC 3600 Values'!E9)","v":1513.1845841784991},{"$f":"($A13*0.746*$K$6*$K$7)/('TEFC 3600 Values'!F9)","v":1420.952380952381},92.232203226118145,null,null,{"$f":"($A13*0.746*$K$6*$K$7)/('TEFC 3600 Values'!F9)","v":1420.952380952381},{"$f":"($A13*0.746*$K$6*$K$7)/('TEFC 3600 Values'!G9)","v":1396.0233918128654},24.928989139515579,null,null,{"$f":"($A13*0.746*$K$6*$K$7)/('TEFC 3600 Values'!E9)","v":1513.1845841784991},{"$f":"($A13*0.746*$K$6*$K$7)/('TEFC 3600 Values'!G9)","v":1396.0233918128654},{"$f":"M13-N13","v":117.16119236563372}]
[3,null,{"$f":"($A14*0.746*$K$6*$K$7)/('TEFC 3600 Values'!E10)","v":2248.6812358703842},{"$f":"($A14*0.746*$K$6*$K$7)/('TEFC 3600 Values'!F10)","v":2094.0350877192982},154.64614815108598,null,null,{"$f":"($A14*0.746*$K$6*$K$7)/('TEFC 3600 Values'!F10)","v":2094.0350877192982},{"$f":"($A14*0.746*$K$6*$K$7)/('TEFC 3600 Values'!G10)","v":2069.8265895953759},24.208498123922254,null,null,{"$f":"($A14*0.746*$K$6*$K$7)/('TEFC 3600 Values'!E10)","v":2248.6812358703842},{"$f":"($A14*0.746*$K$6*$K$7)/('TEFC 3600 Values'!G10)","v":2069.8265895953759},{"$f":"M14-N14","v":178.85464627500824}]
[5,null,{"$f":"($A15*0.746*$K$6*$K$7)/('TEFC 3600 Values'!E11)","v":3622.2384073804324},{"$f":"($A15*0.746*$K$6*$K$7)/('TEFC 3600 Values'!F11)","v":3410.2857142857142},211.95269309471814,null,null,{"$f":"($A15*0.746*$K$6*$K$7)/('TEFC 3600 Values'!F11)","v":3410.2857142857142},{"$f":"($A15*0.746*$K$6*$K$7)/('TEFC 3600 Values'!G11)","v":3371.7514124293784},38.534301856335787,null,null,{"$f":"($A15*0.746*$K$6*$K$7)/('TEFC 3600 Values'!E11)","v":3622.2384073804324},{"$f":"($A15*0.746*$K$6*$K$7)/('TEFC 3600 Values'!G11)","v":3371.7514124293784},250.48699495105393]
[7.5,null,{"$f":"($A16*0.746*$K$6*$K$7)/('TEFC 3600 Values'!E12)","v":5419.5423174718489},{"$f":"($A16*0.746*$K$6*$K$7)/('TEFC 3600 Values'!F12)","v":5057.6271186440681},361.91519882778084,null,null,{"$f":"($A16*0.746*$K$6*$K$7)/('TEFC 3600 Values'!F12)","v":5057.6271186440681},{"$f":"($A16*0.746*$K$6*$K$7)/('TEFC 3600 Values'!G12)","v":5001.117318435754},56.509800208314118,null,null,{"$f":"($A16*0.746*$K$6*$K$7)/('TEFC 3600 Values'!E12)","v":5419.5423174718489},{"$f":"($A16*0.746*$K$6*$K$7)/('TEFC 3600 Values'!G12)","v":5001.117318435754},418.42499903609496]
[10,null,{"$f":"($A17*0.746*$K$6*$K$7)/('TEFC 3600 Values'!E13)","v":7022.002588539829},{"$f":"($A17*0.746*$K$6*$K$7)/('TEFC 3600 Values'!F13)","v":6668.1564245810059},353.84616395882313,null,null,{"$f":"($A17*0.746*$K$6*$K$7)/('TEFC 3600 Values'!F13)","v":6668.1564245810059},{"$f":"($A17*0.746*$K$6*$K$7)/('TEFC 3600 Values'!G13)","v":6616.4079822616404},51.748442319365495,null,null,{"$f":"($A17*0.746*$K$6*$K$7)/('TEFC 3600 Values'!E13)","v":7022.002588539829},{"$f":"($A17*0.746*$K$6*$K$7)/('TEFC 3600 Values'!G13)","v":6616.4079822616404},405.59460627818862]
[15,null,{"$f":"($A18*0.746*$K$6*$K$7)/('TEFC 3600 Values'!E14)","v":10450.618725192622},{"$f":"($A18*0.746*$K$6*$K$7)/('TEFC 3600 Values'!F14)","v":9924.6119733924606},526.00675180016151,null,null,{"$f":"($A18*0.746*$K$6*$K$7)/('TEFC 3600 Values'!F14)","v":9924.6119733924606},{"$f":"($A18*0.746*$K$6*$K$7)/('TEFC 3600 Values'!G14)","v":9837.3626373626375},87.249336029823098,null,null,{"$f":"($A18*0.746*$K$6*$K$7)/('TEFC 3600 Values'!E14)","v":10450.618725192622},{"$f":"($A18*0.746*$K$6*$K$7)/('TEFC 3600 Values'!G14)","v":9837.3626373626375},613.25608782998461]
[20,null,{"$f":"($A19*0.746*$K$6*$K$7)/('TEFC 3600 Values'!E15)","v":13779.727545601478},{"$f":"($A19*0.746*$K$6*$K$7)/('TEFC 3600 Values'!F15)","v":13232.815964523281},546.91158107819683,null,null,{"$f":"($A19*0.746*$K$6*$K$7)/('TEFC 3600 Values'!F15)","v":13232.815964523281},{"$f":"($A19*0.746*$K$6*$K$7)/('TEFC 3600 Values'!G15)","v":13116.483516483517},116.33244803976413,null,null,{"$f":"($A19*0.746*$K$6*$K$7)/('TEFC 3600 Values'!E15)","v":13779.727545601478},{"$f":"($A19*0.746*$K$6*$K$7)/('TEFC 3600 Values'!G15)","v":13116.483516483517},663.24402911796096]
[25,null,{"$f":"($A20*0.746*$K$6*$K$7)/('TEFC 3600 Values'!E16)","v":17045.584371072775},{"$f":"($A20*0.746*$K$6*$K$7)/('TEFC 3600 Values'!F16)","v":16395.604395604394},649.97997546838087,null,null,{"$f":"($A20*0.746*$K$6*$K$7)/('TEFC 3600 Values'!F16)","v":16395.604395604394},{"$f":"($A20*0.746*$K$6*$K$7)/('TEFC 3600 Values'!G16)","v":16270.447110141766},125.15728546262835,null,null,{"$f":"($A20*0.746*$K$6*$K$7)/('TEFC 3600 Values'!E16)","v":17045.584371072775},{"$f":"($A20*0.746*$K$6*$K$7)/('TEFC 3600 Values'!G16)","v":16270.447110141766},775.13726093100922]
[30,null,{"$f":"($A21*0.746*$K$6*$K$7)/('TEFC 3600 Values'!E17)","v":20405.744244358331},{"$f":"($A21*0.746*$K$6*$K$7)/('TEFC 3600 Values'!F17)","v":19674.725274725275},731.01896963305626,null,null,{"$f":"($A21*0.746*$K$6*$K$7)/('TEFC 3600 Values'!F17)","v":19674.725274725275},{"$f":"($A21*0.746*$K$6*$K$7)/('TEFC 3600 Values'!G17)","v":19524.536532170121},150.18874255515402,null,null,{"$f":"($A21*0.746*$K$6*$K$7)/('TEFC 3600 Values'!E17)","v":20405.744244358331},{"$f":"($A21*0.746*$K$6*$K$7)/('TEFC 3600 Values'!G17)","v":19524.536532170121},881.20771218821028]
[40,null,{"$f":"($A22*0.746*$K$6*$K$7)/('TEFC 3600 Values'!E18)","v":26961.825163767786},{"$f":"($A22*0.746*$K$6*$K$7)/('TEFC 3600 Values'!F18)","v":26032.715376226824},929.10978754096141,null,null,{"$f":"($A22*0.746*$K$6*$K$7)/('TEFC 3600 Values'!F18)","v":26032.715376226824},{"$f":"($A22*0.746*$K$6*$K$7)/('TEFC 3600 Values'!G18)","v":25835.497835497834},197.21754072899057,null,null,{"$f":"($A22*0.746*$K$6*$K$7)/('TEFC 3600 Values'!E18)","v":26961.825163767786},{"$f":"($A22*0.746*$K$6*$K$7)/('TEFC 3600 Values'!G18)","v":25835.497835497834},1126.327328269952]
[50,null,{"$f":"($A23*0.746*$K$6*$K$7)/('TEFC 3600 Values'!E19)","v":33528.089887640446},{"$f":"($A23*0.746*$K$6*$K$7)/('TEFC 3600 Values'!F19)","v":32294.372294372293},1233.717593268153,null,null,{"$f":"($A23*0.746*$K$6*$K$7)/('TEFC 3600 Values'!F19)","v":32294.372294372293},{"$f":"($A23*0.746*$K$6*$K$7)/('TEFC 3600 Values'!G19)","v":32086.021505376346},208.35078899594737,null,null,{"$f":"($A23*0.746*$K$6*$K$7)/('TEFC 3600 Values'!E19)","v":33528.089887640446},{"$f":"($A23*0.746*$K$6*$K$7)/('TEFC 3600 Values'!G19)","v":32086.021505376346},1442.0683822641004]
[60,null,{"$f":"($A24*0.746*$K$6*$K$7)/('TEFC 3600 Values'!E20)","v":40058.172055039715},{"$f":"($A24*0.746*$K$6*$K$7)/('TEFC 3600 Values'!F20)","v":38503.225806451614},1554.9462485881013,null,null,{"$f":"($A24*0.746*$K$6*$K$7)/('TEFC 3600 Values'!F20)","v":38503.225806451614},{"$f":"($A24*0.746*$K$6*$K$7)/('TEFC 3600 Values'!G20)","v":38256.410256410258},246.81555004135589,null,null,{"$f":"($A24*0.746*$K$6*$K$7)/('TEFC 3600 Values'!E20)","v":40058.172055039715},{"$f":"($A24*0.746*$K$6*$K$7)/('TEFC 3600 Values'!G20)","v":38256.410256410258},1801.7617986294572]
[75,null,{"$f":"($A25*0.746*$K$6*$K$7)/('TEFC 3600 Values'!E21)","v":49403.973509933778},{"$f":"($A25*0.746*$K$6*$K$7)/('TEFC 3600 Values'!F21)","v":48129.032258064515},1274.9412518692625,null,null,{"$f":"($A25*0.746*$K$6*$K$7)/('TEFC 3600 Values'!F21)","v":48129.032258064515},{"$f":"($A25*0.746*$K$6*$K$7)/('TEFC 3600 Values'!G21)","v":47820.51282051282},308.51943755169486,null,null,{"$f":"($A25*0.746*$K$6*$K$7)/('TEFC 3600 Values'!E21)","v":49403.973509933778},{"$f":"($A25*0.746*$K$6*$K$7)/('TEFC 3600 Values'!G21)","v":47820.51282051282},1583.4606894209574]
[100,null,{"$f":"($A26*0.746*$K$6*$K$7)/('TEFC 3600 Values'!E22)","v":65669.014084507042},{"$f":"($A26*0.746*$K$6*$K$7)/('TEFC 3600 Values'!F22)","v":63760.683760683765},1908.3303238232766,null,null,{"$f":"($A26*0.746*$K$6*$K$7)/('TEFC 3600 Values'!F22)","v":63760.683760683765},{"$f":"($A26*0.746*$K$6*$K$7)/('TEFC 3600 Values'!G22)","v":63421.891604675882},338.79215600788302,null,null,{"$f":"($A26*0.746*$K$6*$K$7)/('TEFC 3600 Values'!E22)","v":65669.014084507042},{"$f":"($A26*0.746*$K$6*$K$7)/('TEFC 3600 Values'!G22)","v":63421.891604675882},2247.1224798311596]
[125,null,{"$f":"($A27*0.746*$K$6*$K$7)/('TEFC 3600 Values'!E23)","v":82086.26760563381},{"$f":"($A27*0.746*$K$6*$K$7)/('TEFC 3600 Values'!F23)","v":78941.798941798945},3144.4686638348649,null,null,{"$f":"($A27*0.746*$K$6*$K$7)/('TEFC 3600 Values'!F23)","v":78941.798941798945},{"$f":"($A27*0.746*$K$6*$K$7)/('TEFC 3600 Values'!G23)","v":78526.31578947368},415.48315232526511,null,null,{"$f":"($A27*0.746*$K$6*$K$7)/('TEFC 3600 Values'!E23)","v":82086.26760563381},{"$f":"($A27*0.746*$K$6*$K$7)/('TEFC 3600 Values'!G23)","v":78526.31578947368},3559.95181616013]
[150,null,{"$f":"($A28*0.746*$K$6*$K$7)/('TEFC 3600 Values'!E24)","v":97814.685314685325},{"$f":"($A28*0.746*$K$6*$K$7)/('TEFC 3600 Values'!F24)","v":94730.158730158728},3084.5265845265967,null,null,{"$f":"($A28*0.746*$K$6*$K$7)/('TEFC 3600 Values'!F24)","v":94730.158730158728},{"$f":"($A28*0.746*$K$6*$K$7)/('TEFC 3600 Values'!G24)","v":94231.578947368427},498.57978279030067,null,null,{"$f":"($A28*0.746*$K$6*$K$7)/('TEFC 3600 Values'!E24)","v":97814.685314685325},{"$f":"($A28*0.746*$K$6*$K$7)/('TEFC 3600 Values'!G24)","v":94231.578947368427},3583.1063673168974]
[200,null,{"$f":"($A29*0.746*$K$6*$K$7)/('TEFC 3600 Values'!E25)","v":128759.43905070118},{"$f":"($A29*0.746*$K$6*$K$7)/('TEFC 3600 Values'!F25)","v":125642.10526315789},3117.3337875432917,null,null,{"$f":"($A29*0.746*$K$6*$K$7)/('TEFC 3600 Values'!F25)","v":125642.10526315789},{"$f":"($A29*0.746*$K$6*$K$7)/('TEFC 3600 Values'!G25)","v":125115.3039832285},526.80127992939379,null,null,{"$f":"($A29*0.746*$K$6*$K$7)/('TEFC 3600 Values'!E25)","v":128759.43905070118},{"$f":"($A29*0.746*$K$6*$K$7)/('TEFC 3600 Values'!G25)","v":125115.3039832285},3644.1350674726855]
[]
["(hp)",null,"Pre-EPAct ","EISA","Δ Pre-EPAct => EISA",null,null,"EISA","Above EISA","Δ EISA =>           Above EISA",null,null,"Pre-EPAct ","Above EISA","Δ Pre-EPAct => Above EISA"]
[250,null,{"$f":"($A32*0.746*$K$6*$K$7)/('TEFC 3600 Values'!E29)","v":157583.43895226024},{"$f":"($A32*0.746*$K$6*$K$7)/('TEFC 3600 Values'!F29)","v":156394.12997903564},{"$f":"C32-D32","v":1189.3089732246008},null,null,{"$f":"($A32*0.746*$K$6*$K$7)/('TEFC 3600 Values'!F29)","v":156394.12997903564},{"$f":"($A32*0.746*$K$6*$K$7)/('TEFC 3600 Values'!G29)","v":155741.127348643},{"$f":"H32-I32","v":653.00263039264246},null,null,{"$f":"($A32*0.746*$K$6*$K$7)/('TEFC 3600 Values'!E29)","v":157583.43895226024},{"$f":"($A32*0.746*$K$6*$K$7)/('TEFC 3600 Values'!G29)","v":155741.127348643},{"$f":"M32-N32","v":1842.3116036172432}]
[300,null,{"$f":"($A33*0.746*$K$6*$K$7)/('TEFC 3600 Values'!E30)","v":189040.22806461834},{"$f":"($A33*0.746*$K$6*$K$7)/('TEFC 3600 Values'!F30)","v":187672.95597484274},1367.2720897755935,null,null,{"$f":"($A33*0.746*$K$6*$K$7)/('TEFC 3600 Values'!F30)","v":187672.95597484274},{"$f":"($A33*0.746*$K$6*$K$7)/('TEFC 3600 Values'!G30)","v":186889.35281837161},783.60315647113021,null,null,{"$f":"($A33*0.746*$K$6*$K$7)/('TEFC 3600 Values'!E30)","v":189040.22806461834},{"$f":"($A33*0.746*$K$6*$K$7)/('TEFC 3600 Values'!G30)","v":186889.35281837161},2150.8752462467237]
[350,null,{"$f":"($A34*0.746*$K$6*$K$7)/('TEFC 3600 Values'!E31)","v":220686.74062334921},{"$f":"($A34*0.746*$K$6*$K$7)/('TEFC 3600 Values'!F31)","v":218951.78197064993},1734.9586526992789,null,null,{"$f":"($A34*0.746*$K$6*$K$7)/('TEFC 3600 Values'!F31)","v":218951.78197064993},{"$f":"($A34*0.746*$K$6*$K$7)/('TEFC 3600 Values'!G31)","v":218037.57828810025},914.20368254967616,null,null,{"$f":"($A34*0.746*$K$6*$K$7)/('TEFC 3600 Values'!E31)","v":220686.74062334921},{"$f":"($A34*0.746*$K$6*$K$7)/('TEFC 3600 Values'!G31)","v":218037.57828810025},2649.1623352489551]
[400,null,{"$f":"($A35*0.746*$K$6*$K$7)/('TEFC 3600 Values'!E32)","v":251947.22955145119},{"$f":"($A35*0.746*$K$6*$K$7)/('TEFC 3600 Values'!F32)","v":250230.607966457},1716.6215849941946,null,null,{"$f":"($A35*0.746*$K$6*$K$7)/('TEFC 3600 Values'!F32)","v":250230.607966457},{"$f":"($A35*0.746*$K$6*$K$7)/('TEFC 3600 Values'!G32)","v":249185.80375782881},1044.804208628193,null,null,{"$f":"($A35*0.746*$K$6*$K$7)/('TEFC 3600 Values'!E32)","v":251947.22955145119},{"$f":"($A35*0.746*$K$6*$K$7)/('TEFC 3600 Values'!G32)","v":249185.80375782881},2761.4257936223876]
[450,null,{"$f":"($A36*0.746*$K$6*$K$7)/('TEFC 3600 Values'!E33)","v":284190.47619047621},{"$f":"($A36*0.746*$K$6*$K$7)/('TEFC 3600 Values'!F33)","v":281509.43396226416},2681.0422282120562,null,null,{"$f":"($A36*0.746*$K$6*$K$7)/('TEFC 3600 Values'!F33)","v":281509.43396226416},{"$f":"($A36*0.746*$K$6*$K$7)/('TEFC 3600 Values'!G33)","v":280334.02922755742},1175.404734706739,null,null,{"$f":"($A36*0.746*$K$6*$K$7)/('TEFC 3600 Values'!E33)","v":284190.47619047621},{"$f":"($A36*0.746*$K$6*$K$7)/('TEFC 3600 Values'!G33)","v":280334.02922755742},3856.4469629187952]
[500,null,{"$f":"($A37*0.746*$K$6*$K$7)/('TEFC 3600 Values'!E34)","v":315767.19576719578},{"$f":"($A37*0.746*$K$6*$K$7)/('TEFC 3600 Values'!F34)","v":312788.25995807128},2978.935809124494,null,null,{"$f":"($A37*0.746*$K$6*$K$7)/('TEFC 3600 Values'!F34)","v":312788.25995807128},{"$f":"($A37*0.746*$K$6*$K$7)/('TEFC 3600 Values'!G34)","v":311482.254697286},1306.0052607852849,null,null,{"$f":"($A37*0.746*$K$6*$K$7)/('TEFC 3600 Values'!E34)","v":315767.19576719578},{"$f":"($A37*0.746*$K$6*$K$7)/('TEFC 3600 Values'!G34)","v":311482.254697286},4284.9410699097789]
[]
["Please see the following \"Values\" sheet for efficiency data and descriptions."]

{"sheet":"TEFC 3600 Values","index":10,"n_rows":34,"n_cols":16,"rows_kept":34,"cut":false,"hidden":false,"merged":[[26,6,27,6],[36,0,36,5],[37,0,37,5],[37,6,37,9],[38,0,38,5],[38,6,38,9],[25,14,30,19],[0,0,2,20],[4,14,9,19],[10,8,15,13],[10,14,15,19],[16,8,24,13],[16,14,24,19],[26,3,27,3],[26,4,27,4],[26,5,27,5],[4,3,5,3],[4,4,5,4],[4,5,5,5],[4,6,5,6],[4,8,9,13],[25,8,30,13]]}
["Efficiency Values Used to Estimate Annual Energy Savings\n       TEFC    ·    3600 RPM    ·    Full-load Operation    ·    Nominal Efficiency                                \nEstimated Annual Energy Cost = (horsepower x annual operating hours x cost of electricity x 0.746) / (efficiency)"]
[]
[]
[]
[null,null,null,"Size (hp)","Pre-EPAct","EPAct","EISA",null,"Pre-Energy Policy Act (Pre-EPAct) refers to efficiency levels lower than the federal nominal efficiency standards established by EPAct. Pre-EPAct efficiency levels are an estimated average of nominal efficiency for motors manufactured before the EPAct standards. Pre-EPAct efficiency is calculated by the Department of Energy and used in the MotorMaster+ tool (v 4.01.01, September 2010).",null,null,null,null,null,"For more information, see: http://www1.eere.energy.gov/industry/bestpractices/software_motormaster.html"]
[]
[null,null,null,1,73,75.5,77]
[null,null,null,1.5,75.150000000000006,82.5,84]
[null,null,null,2,78.88,84,85.5]
[null,null,null,3,79.62,85.5,86.5]
[null,null,null,5,82.38,87.5,88.5,null,"Energy Policy Act (EPAct) refers to the federal nominal efficiency levels established by the 1992 Energy Policy Act, which became effective in 1997. EPAct established federal nominal efficiency standards for 1-200 hp general purpose motors 1200rpm, 1800 rpm, and 3600 rpm. EPAct efficiency is equivalent to NEMA MG1-2007 Table 12-11 for 1-200 hp motors. EPAct did not establish efficiency standards for 201-500 hp motors. ",null,null,null,null,null,"For more information, see:\nhttp://www1.eere.energy.gov/industry/bestpractices/pdfs/e-pact92.pdf"]
[null,null,null,7.5,82.59,88.5,89.5]
[null,null,null,10,84.99,89.5,90.2]
[null,null,null,15,85.66,90.2,91]
[null,null,null,20,86.62,90.2,91]
[null,null,null,25,87.53,91,91.7]
[null,null,null,30,87.74,91,91.7,null,"Energy Independence and Security Act (EISA) refers to the federal nominal efficiency standards established by the 2007 Energy Independence and Security Act, which became effective December 2010. For 1-200 hp general purpose motors 1200 rpm, 1800 rpm, 3600 rpm, EISA is equivalent to NEMA Premium®.* For 201-500 hp motors EISA established different federal nominal efficiency standards, which are equivalent to NEMA MG1-2007 Table 12-11. For 201-500 hp NEMA Premium nominal efficiency levels meet or exceed NEMA MG1-2007, Table 12-12.",null,null,null,null,null,"For more information, see:  http://www1.eere.energy.gov/buildings/appliance_standards/commercial/electric_motors.html"]
[null,null,null,40,88.54,91.7,92.4]
[null,null,null,50,89,92.4,93]
[null,null,null,60,89.39,93,93.6]
[null,null,null,75,90.6,93,93.6]
[null,null,null,100,90.88,93.6,94.1]
[null,null,null,125,90.88,94.5,95]
[null,null,null,150,91.52,94.5,95]
[null,null,null,200,92.7,95,95.4]
[null,null,null,null,null,null,null,null,"Above EISA refers to efficiency levels that exceed the EISA federal standards. For 201-500 hp general purpose motors 1200 rpm, 1800 rpm, 3600 rpm, Above EISA is equivalent to NEMA Premium,* with nominal efficiency levels that meet or exceed NEMA MG1-2007, Table 12-12. ",null,null,null,null,null,"For more information, see: http://www.nema.org/stds/mg1.cfm"]
[null,null,null,"Size (hp)","Pre-EPAct","EISA","Above EISA"]
[]
[null,null,null,250,94.68,95.4,95.8]
[null,null,null,300,94.71,95.4,95.8]
[null,null,null,350,94.65,95.4,95.8]
[null,null,null,400,94.75,95.4,95.8]
[null,null,null,450,94.5,95.4,95.8,null,"*NEMA Premium is a trademark owned by the National Electrical Manufacturers Association,",null,null,null,null,null,null,"www.nema.org"]
[null,null,null,500,94.5,95.4,95.8]

{"sheet":"ODP 3600 Savings","index":11,"n_rows":40,"n_cols":15,"rows_kept":40,"cut":false,"hidden":false,"merged":[[35,9,35,10],[36,9,36,10],[40,0,41,15],[5,3,6,5],[5,7,5,9],[6,7,6,9],[26,14,26,15],[19,14,19,15],[36,14,36,15],[27,14,27,15],[28,14,28,15],[30,14,30,15],[31,14,31,15],[35,14,35,15],[32,14,32,15],[33,14,33,15],[0,3,2,13],[30,9,30,10],[26,9,26,10],[27,9,27,10],[28,9,28,10],[17,9,17,10],[18,9,18,10],[28,4,28,5],[23,4,23,5],[24,4,24,5],[27,4,27,5],[13,9,13,10],[8,9,8,10],[9,9,9,10],[8,12,8,13],[25,9,25,10],[32,9,32,10],[33,9,33,10],[34,9,34,10],[18,14,18,15],[23,14,23,15],[24,14,24,15],[25,14,25,15],[22,14,22,15],[20,14,20,15],[21,14,21,15],[31,9,31,10],[19,9,19,10],[20,9,20,10],[21,9,21,10],[22,9,22,10],[34,14,34,15],[24,9,24,10],[17,14,17,15],[8,14,8,15],[9,14,9,15],[10,14,10,15],[11,14,11,15],[12,14,12,15],[12,9,12,10],[36,4,36,5],[30,4,30,5],[31,4,31,5],[32,4,32,5],[33,4,33,5],[34,4,34,5],[35,4,35,5],[22,4,22,5],[14,9,14,10],[18,4,18,5],[19,4,19,5],[20,4,20,5],[17,4,17,5],[42,0,42,15],[8,0,9,0],[8,2,8,3],[8,7,8,8],[10,4,10,5],[8,4,8,5],[9,4,9,5],[26,4,26,5],[25,4,25,5],[11,4,11,5],[38,0,38,16],[39,0,39,16],[23,9,23,10],[13,4,13,5],[14,4,14,5],[21,4,21,5],[3,13,7,15],[15,9,15,10],[15,4,15,5],[16,4,16,5],[12,4,12,5],[10,9,10,10],[11,9,11,10],[15,14,15,15],[16,14,16,15],[16,9,16,10],[13,14,13,15],[14,14,14,15]]}
[null,null,null,"Estimated Annual Energy Savings from Upgrading Motor Efficiency\n  TEFC    ·    3600 RPM    ·    Full-load Operation    ·    Nominal Efficiency                                \nEstimated Annual Energy Cost = (horsepower x annual operating hours x cost of electricity x 0.746) / (efficiency)"]
[]
[]
[null,null,null,null,null,null,null,null,null,null,null,null,null,"Learn more about saving money through sound motor management.\nFor additional tools and resources, visit: www.motorsmatter.org."]
[]
[null,null,null,"Enter Appropriate Values for:",null,null,null,"Annual Operating Hours :",null,null,8000,null,"hrs per year"]
[null,null,null,null,null,null,null,"Cost of Electricity : ",null,null,10,null,"¢ per kWh"]
[]
["Size (hp)",null,"Operating Costs",null,"Energy Savings",null,null,"Operating Costs",null,"Energy Savings",null,null,"Operating Costs",null,"Energy Savings"]
[null,null,"Pre-EPAct ","EPAct","Δ Pre-EPAct => EPAct",null,null,"EPAct","EISA","Δ EPAct => EISA",null,null,"Pre-EPAct ","EISA","Δ Pre-EPAct =>\nEISA"]
[1,null,{"$f":"($A11*0.746*$K$6*$K$7)/('ODP 3600 Values'!E7)","v":783.30489565559787},"x","x",null,null,"x",{"$f":"($A11*0.746*$K$6*$K$7)/('ODP 3600 Values'!G7)","v":775.06493506493507},"x",null,null,{"$f":"($A11*0.746*$K$6*$K$7)/('ODP 3600 Values'!E7)","v":783.30489565559787},{"$f":"($A11*0.746*$K$6*$K$7)/('ODP 3600 Values'!G7)","v":775.06493506493507},{"$f":"M11-N11","v":8.239960590662804}]
[1.5,null,{"$f":"($A12*0.746*$K$6*$K$7)/('ODP 3600 Values'!E8)","v":1158.8349514563106},{"$f":"($A12*0.746*$K$6*$K$7)/('ODP 3600 Values'!F8)","v":1085.090909090909},{"$f":"C12-D12","v":73.744042365401583},null,null,{"$f":"($A12*0.746*$K$6*$K$7)/('ODP 3600 Values'!F8)","v":1085.090909090909},{"$f":"($A12*0.746*$K$6*$K$7)/('ODP 3600 Values'!G8)","v":1065.7142857142858},{"$f":"H12-I12","v":19.376623376623229},null,null,{"$f":"($A12*0.746*$K$6*$K$7)/('ODP 3600 Values'!E8)","v":1158.8349514563106},{"$f":"($A12*0.746*$K$6*$K$7)/('ODP 3600 Values'!G8)","v":1065.7142857142858},{"$f":"M12-N12","v":93.120665742024812}]
[2,null,{"$f":"($A13*0.746*$K$6*$K$7)/('ODP 3600 Values'!E9)","v":1500.2513826043237},{"$f":"($A13*0.746*$K$6*$K$7)/('ODP 3600 Values'!F9)","v":1420.952380952381},79.299001651942717,null,null,{"$f":"($A13*0.746*$K$6*$K$7)/('ODP 3600 Values'!F9)","v":1420.952380952381},{"$f":"($A13*0.746*$K$6*$K$7)/('ODP 3600 Values'!G9)","v":1396.0233918128654},24.928989139515579,null,null,{"$f":"($A13*0.746*$K$6*$K$7)/('ODP 3600 Values'!E9)","v":1500.2513826043237},{"$f":"($A13*0.746*$K$6*$K$7)/('ODP 3600 Values'!G9)","v":1396.0233918128654},{"$f":"M13-N13","v":104.2279907914583}]
[3,null,{"$f":"($A14*0.746*$K$6*$K$7)/('ODP 3600 Values'!E10)","v":2264.0364188163885},{"$f":"($A14*0.746*$K$6*$K$7)/('ODP 3600 Values'!F10)","v":2131.4285714285716},132.60784738781695,null,null,{"$f":"($A14*0.746*$K$6*$K$7)/('ODP 3600 Values'!F10)","v":2131.4285714285716},{"$f":"($A14*0.746*$K$6*$K$7)/('ODP 3600 Values'!G10)","v":2094.0350877192982},37.393483709273369,null,null,{"$f":"($A14*0.746*$K$6*$K$7)/('ODP 3600 Values'!E10)","v":2264.0364188163885},{"$f":"($A14*0.746*$K$6*$K$7)/('ODP 3600 Values'!G10)","v":2094.0350877192982},{"$f":"M14-N14","v":170.00133109709031}]
[5,null,{"$f":"($A15*0.746*$K$6*$K$7)/('ODP 3600 Values'!E11)","v":3613.9033547293207},{"$f":"($A15*0.746*$K$6*$K$7)/('ODP 3600 Values'!F11)","v":3490.0584795321638},123.84487519715685,null,null,{"$f":"($A15*0.746*$K$6*$K$7)/('ODP 3600 Values'!F11)","v":3490.0584795321638},{"$f":"($A15*0.746*$K$6*$K$7)/('ODP 3600 Values'!G11)","v":3449.7109826589594},40.347496873204364,null,null,{"$f":"($A15*0.746*$K$6*$K$7)/('ODP 3600 Values'!E11)","v":3613.9033547293207},{"$f":"($A15*0.746*$K$6*$K$7)/('ODP 3600 Values'!G11)","v":3449.7109826589594},164.19237207036122]
[7.5,null,{"$f":"($A16*0.746*$K$6*$K$7)/('ODP 3600 Values'!E12)","v":5401.2308434898032},{"$f":"($A16*0.746*$K$6*$K$7)/('ODP 3600 Values'!F12)","v":5115.4285714285716},285.80227206123163,null,null,{"$f":"($A16*0.746*$K$6*$K$7)/('ODP 3600 Values'!F12)","v":5115.4285714285716},{"$f":"($A16*0.746*$K$6*$K$7)/('ODP 3600 Values'!G12)","v":5057.6271186440681},57.801452784503454,null,null,{"$f":"($A16*0.746*$K$6*$K$7)/('ODP 3600 Values'!E12)","v":5401.2308434898032},{"$f":"($A16*0.746*$K$6*$K$7)/('ODP 3600 Values'!G12)","v":5057.6271186440681},343.60372484573509]
[10,null,{"$f":"($A17*0.746*$K$6*$K$7)/('ODP 3600 Values'!E13)","v":7019.5248176899559},{"$f":"($A17*0.746*$K$6*$K$7)/('ODP 3600 Values'!F13)","v":6743.5028248587569},276.02199283119899,null,null,{"$f":"($A17*0.746*$K$6*$K$7)/('ODP 3600 Values'!F13)","v":6743.5028248587569},{"$f":"($A17*0.746*$K$6*$K$7)/('ODP 3600 Values'!G13)","v":6668.1564245810059},75.346400277750945,null,null,{"$f":"($A17*0.746*$K$6*$K$7)/('ODP 3600 Values'!E13)","v":7019.5248176899559},{"$f":"($A17*0.746*$K$6*$K$7)/('ODP 3600 Values'!G13)","v":6668.1564245810059},351.36839310894993]
[15,null,{"$f":"($A18*0.746*$K$6*$K$7)/('ODP 3600 Values'!E14)","v":10333.602678056101},{"$f":"($A18*0.746*$K$6*$K$7)/('ODP 3600 Values'!F14)","v":10002.234636871508},331.36804118459258,null,null,{"$f":"($A18*0.746*$K$6*$K$7)/('ODP 3600 Values'!F14)","v":10002.234636871508},{"$f":"($A18*0.746*$K$6*$K$7)/('ODP 3600 Values'!G14)","v":9924.6119733924606},77.622663479047333,null,null,{"$f":"($A18*0.746*$K$6*$K$7)/('ODP 3600 Values'!E14)","v":10333.602678056101},{"$f":"($A18*0.746*$K$6*$K$7)/('ODP 3600 Values'!G14)","v":9924.6119733924606},408.99070466363992]
[20,null,{"$f":"($A19*0.746*$K$6*$K$7)/('ODP 3600 Values'!E15)","v":13543.628730284807},{"$f":"($A19*0.746*$K$6*$K$7)/('ODP 3600 Values'!F15)","v":13232.815964523281},310.81276576152595,null,null,{"$f":"($A19*0.746*$K$6*$K$7)/('ODP 3600 Values'!F15)","v":13232.815964523281},{"$f":"($A19*0.746*$K$6*$K$7)/('ODP 3600 Values'!G15)","v":13116.483516483517},116.33244803976413,null,null,{"$f":"($A19*0.746*$K$6*$K$7)/('ODP 3600 Values'!E15)","v":13543.628730284807},{"$f":"($A19*0.746*$K$6*$K$7)/('ODP 3600 Values'!G15)","v":13116.483516483517},427.14521380129008]
[25,null,{"$f":"($A20*0.746*$K$6*$K$7)/('ODP 3600 Values'!E16)","v":16868.287167891463},{"$f":"($A20*0.746*$K$6*$K$7)/('ODP 3600 Values'!F16)","v":16395.604395604394},472.68277228706938,null,null,{"$f":"($A20*0.746*$K$6*$K$7)/('ODP 3600 Values'!F16)","v":16395.604395604394},{"$f":"($A20*0.746*$K$6*$K$7)/('ODP 3600 Values'!G16)","v":16270.447110141766},125.15728546262835,null,null,{"$f":"($A20*0.746*$K$6*$K$7)/('ODP 3600 Values'!E16)","v":16868.287167891463},{"$f":"($A20*0.746*$K$6*$K$7)/('ODP 3600 Values'!G16)","v":16270.447110141766},597.84005774969773]
[30,null,{"$f":"($A21*0.746*$K$6*$K$7)/('ODP 3600 Values'!E17)","v":20408.070215433716},{"$f":"($A21*0.746*$K$6*$K$7)/('ODP 3600 Values'!F17)","v":19674.725274725275},733.34494070844084,null,null,{"$f":"($A21*0.746*$K$6*$K$7)/('ODP 3600 Values'!F17)","v":19674.725274725275},{"$f":"($A21*0.746*$K$6*$K$7)/('ODP 3600 Values'!G17)","v":19524.536532170121},150.18874255515402,null,null,{"$f":"($A21*0.746*$K$6*$K$7)/('ODP 3600 Values'!E17)","v":20408.070215433716},{"$f":"($A21*0.746*$K$6*$K$7)/('ODP 3600 Values'!G17)","v":19524.536532170121},883.53368326359487]
[40,null,{"$f":"($A22*0.746*$K$6*$K$7)/('ODP 3600 Values'!E18)","v":26952.692785367508},{"$f":"($A22*0.746*$K$6*$K$7)/('ODP 3600 Values'!F18)","v":26032.715376226824},919.97740914068345,null,null,{"$f":"($A22*0.746*$K$6*$K$7)/('ODP 3600 Values'!F18)","v":26032.715376226824},{"$f":"($A22*0.746*$K$6*$K$7)/('ODP 3600 Values'!G18)","v":25835.497835497834},197.21754072899057,null,null,{"$f":"($A22*0.746*$K$6*$K$7)/('ODP 3600 Values'!E18)","v":26952.692785367508},{"$f":"($A22*0.746*$K$6*$K$7)/('ODP 3600 Values'!G18)","v":25835.497835497834},1117.194949869674]
[50,null,{"$f":"($A23*0.746*$K$6*$K$7)/('ODP 3600 Values'!E19)","v":33505.501908825507},{"$f":"($A23*0.746*$K$6*$K$7)/('ODP 3600 Values'!F19)","v":32294.372294372293},1211.1296144532134,null,null,{"$f":"($A23*0.746*$K$6*$K$7)/('ODP 3600 Values'!F19)","v":32294.372294372293},{"$f":"($A23*0.746*$K$6*$K$7)/('ODP 3600 Values'!G19)","v":32086.021505376346},208.35078899594737,null,null,{"$f":"($A23*0.746*$K$6*$K$7)/('ODP 3600 Values'!E19)","v":33505.501908825507},{"$f":"($A23*0.746*$K$6*$K$7)/('ODP 3600 Values'!G19)","v":32086.021505376346},1419.4804034491608]
[60,null,{"$f":"($A24*0.746*$K$6*$K$7)/('ODP 3600 Values'!E20)","v":39619.384819650368},{"$f":"($A24*0.746*$K$6*$K$7)/('ODP 3600 Values'!F20)","v":38503.225806451614},1116.1590131987541,null,null,{"$f":"($A24*0.746*$K$6*$K$7)/('ODP 3600 Values'!F20)","v":38503.225806451614},{"$f":"($A24*0.746*$K$6*$K$7)/('ODP 3600 Values'!G20)","v":38256.410256410258},246.81555004135589,null,null,{"$f":"($A24*0.746*$K$6*$K$7)/('ODP 3600 Values'!E20)","v":39619.384819650368},{"$f":"($A24*0.746*$K$6*$K$7)/('ODP 3600 Values'!G20)","v":38256.410256410258},1362.97456324011]
[75,null,{"$f":"($A25*0.746*$K$6*$K$7)/('ODP 3600 Values'!E21)","v":49535.192563081007},{"$f":"($A25*0.746*$K$6*$K$7)/('ODP 3600 Values'!F21)","v":48129.032258064515},1406.1603050164922,null,null,{"$f":"($A25*0.746*$K$6*$K$7)/('ODP 3600 Values'!F21)","v":48129.032258064515},{"$f":"($A25*0.746*$K$6*$K$7)/('ODP 3600 Values'!G21)","v":47820.51282051282},308.51943755169486,null,null,{"$f":"($A25*0.746*$K$6*$K$7)/('ODP 3600 Values'!E21)","v":49535.192563081007},{"$f":"($A25*0.746*$K$6*$K$7)/('ODP 3600 Values'!G21)","v":47820.51282051282},1714.6797425681871]
[100,null,{"$f":"($A26*0.746*$K$6*$K$7)/('ODP 3600 Values'!E22)","v":65922.89848668949},{"$f":"($A26*0.746*$K$6*$K$7)/('ODP 3600 Values'!F22)","v":64172.043010752692},1750.855475936798,null,null,{"$f":"($A26*0.746*$K$6*$K$7)/('ODP 3600 Values'!F22)","v":64172.043010752692},{"$f":"($A26*0.746*$K$6*$K$7)/('ODP 3600 Values'!G22)","v":63760.683760683765},411.35925006892649,null,null,{"$f":"($A26*0.746*$K$6*$K$7)/('ODP 3600 Values'!E22)","v":65922.89848668949},{"$f":"($A26*0.746*$K$6*$K$7)/('ODP 3600 Values'!G22)","v":63760.683760683765},2162.2147260057245]
[125,null,{"$f":"($A27*0.746*$K$6*$K$7)/('ODP 3600 Values'!E23)","v":81780.311335233506},{"$f":"($A27*0.746*$K$6*$K$7)/('ODP 3600 Values'!F23)","v":79700.854700854703},2079.4566343788028,null,null,{"$f":"($A27*0.746*$K$6*$K$7)/('ODP 3600 Values'!F23)","v":79700.854700854703},{"$f":"($A27*0.746*$K$6*$K$7)/('ODP 3600 Values'!G23)","v":79277.364505844846},423.49019500985742,null,null,{"$f":"($A27*0.746*$K$6*$K$7)/('ODP 3600 Values'!E23)","v":81780.311335233506},{"$f":"($A27*0.746*$K$6*$K$7)/('ODP 3600 Values'!G23)","v":79277.364505844846},2502.9468293886603]
[150,null,{"$f":"($A28*0.746*$K$6*$K$7)/('ODP 3600 Values'!E24)","v":97643.979057591612},{"$f":"($A28*0.746*$K$6*$K$7)/('ODP 3600 Values'!F24)","v":95641.025641025641},2002.9534165659716,null,null,{"$f":"($A28*0.746*$K$6*$K$7)/('ODP 3600 Values'!F24)","v":95641.025641025641},{"$f":"($A28*0.746*$K$6*$K$7)/('ODP 3600 Values'!G24)","v":95132.837407013823},508.18823401181726,null,null,{"$f":"($A28*0.746*$K$6*$K$7)/('ODP 3600 Values'!E24)","v":97643.979057591612},{"$f":"($A28*0.746*$K$6*$K$7)/('ODP 3600 Values'!G24)","v":95132.837407013823},2511.1416505777888]
[200,null,{"$f":"($A29*0.746*$K$6*$K$7)/('ODP 3600 Values'!E25)","v":130391.08586410311},{"$f":"($A29*0.746*$K$6*$K$7)/('ODP 3600 Values'!F25)","v":126306.87830687831},4084.2075572247995,null,null,{"$f":"($A29*0.746*$K$6*$K$7)/('ODP 3600 Values'!F25)","v":126306.87830687831},{"$f":"($A29*0.746*$K$6*$K$7)/('ODP 3600 Values'!G25)","v":125642.10526315789},664.77304372041544,null,null,{"$f":"($A29*0.746*$K$6*$K$7)/('ODP 3600 Values'!E25)","v":130391.08586410311},{"$f":"($A29*0.746*$K$6*$K$7)/('ODP 3600 Values'!G25)","v":125642.10526315789},4748.980600945215]
[]
["(hp)",null,"Pre-EPAct ","EISA","Δ Pre-EPAct => EISA",null,null,"EISA","Above EISA","Δ EISA =>           Above EISA",null,null,"Pre-EPAct ","Above EISA","Δ Pre-EPAct => Above EISA"]
[250,null,{"$f":"($A32*0.746*$K$6*$K$7)/('ODP 3600 Values'!E29)","v":160447.35993117539},{"$f":"($A32*0.746*$K$6*$K$7)/('ODP 3600 Values'!F29)","v":157883.59788359789},{"$f":"C32-D32","v":2563.7620475775038},null,null,{"$f":"($A32*0.746*$K$6*$K$7)/('ODP 3600 Values'!F29)","v":157883.59788359789},{"$f":"($A32*0.746*$K$6*$K$7)/('ODP 3600 Values'!G29)","v":157052.63157894736},{"$f":"H32-I32","v":830.96630465053022},null,null,{"$f":"($A32*0.746*$K$6*$K$7)/('ODP 3600 Values'!E29)","v":160447.35993117539},{"$f":"($A32*0.746*$K$6*$K$7)/('ODP 3600 Values'!G29)","v":157052.63157894736},{"$f":"M32-N32","v":3394.7283522280341}]
[300,null,{"$f":"($A33*0.746*$K$6*$K$7)/('ODP 3600 Values'!E30)","v":190691.23442326125},{"$f":"($A33*0.746*$K$6*$K$7)/('ODP 3600 Values'!F30)","v":188463.15789473685},2228.0765285243979,null,null,{"$f":"($A33*0.746*$K$6*$K$7)/('ODP 3600 Values'!F30)","v":188463.15789473685},{"$f":"($A33*0.746*$K$6*$K$7)/('ODP 3600 Values'!G30)","v":187672.95597484274},790.20191989411251,null,null,{"$f":"($A33*0.746*$K$6*$K$7)/('ODP 3600 Values'!E30)","v":190691.23442326125},{"$f":"($A33*0.746*$K$6*$K$7)/('ODP 3600 Values'!G30)","v":187672.95597484274},3018.2784484185104]
[350,null,{"$f":"($A34*0.746*$K$6*$K$7)/('ODP 3600 Values'!E31)","v":221646.8590831919},{"$f":"($A34*0.746*$K$6*$K$7)/('ODP 3600 Values'!F31)","v":219873.68421052635},1773.1748726655496,null,null,{"$f":"($A34*0.746*$K$6*$K$7)/('ODP 3600 Values'!F31)","v":219873.68421052635},{"$f":"($A34*0.746*$K$6*$K$7)/('ODP 3600 Values'!G31)","v":218951.78197064993},921.90223987642094,null,null,{"$f":"($A34*0.746*$K$6*$K$7)/('ODP 3600 Values'!E31)","v":221646.8590831919},{"$f":"($A34*0.746*$K$6*$K$7)/('ODP 3600 Values'!G31)","v":218951.78197064993},2695.0771125419706]
[400,null,{"$f":"($A35*0.746*$K$6*$K$7)/('ODP 3600 Values'!E32)","v":253015.36830948596},{"$f":"($A35*0.746*$K$6*$K$7)/('ODP 3600 Values'!F32)","v":250230.607966457},2784.7603430289601,null,null,{"$f":"($A35*0.746*$K$6*$K$7)/('ODP 3600 Values'!F32)","v":250230.607966457},{"$f":"($A35*0.746*$K$6*$K$7)/('ODP 3600 Values'!G32)","v":249185.80375782881},1044.804208628193,null,null,{"$f":"($A35*0.746*$K$6*$K$7)/('ODP 3600 Values'!E32)","v":253015.36830948596},{"$f":"($A35*0.746*$K$6*$K$7)/('ODP 3600 Values'!G32)","v":249185.80375782881},3829.5645516571531]
[450,null,{"$f":"($A36*0.746*$K$6*$K$7)/('ODP 3600 Values'!E33)","v":283830.05707038677},{"$f":"($A36*0.746*$K$6*$K$7)/('ODP 3600 Values'!F33)","v":280334.02922755742},3496.0278428293532,null,null,{"$f":"($A36*0.746*$K$6*$K$7)/('ODP 3600 Values'!F33)","v":280334.02922755742},{"$f":"($A36*0.746*$K$6*$K$7)/('ODP 3600 Values'!G33)","v":280334.02922755742},0,null,null,{"$f":"($A36*0.746*$K$6*$K$7)/('ODP 3600 Values'!E33)","v":283830.05707038677},{"$f":"($A36*0.746*$K$6*$K$7)/('ODP 3600 Values'!G33)","v":280334.02922755742},3496.0278428293532]
[500,null,{"$f":"($A37*0.746*$K$6*$K$7)/('ODP 3600 Values'!E34)","v":315433.40380549687},{"$f":"($A37*0.746*$K$6*$K$7)/('ODP 3600 Values'!F34)","v":311482.254697286},3951.1491082108696,null,null,{"$f":"($A37*0.746*$K$6*$K$7)/('ODP 3600 Values'!F34)","v":311482.254697286},{"$f":"($A37*0.746*$K$6*$K$7)/('ODP 3600 Values'!G34)","v":311482.254697286},0,null,null,{"$f":"($A37*0.746*$K$6*$K$7)/('ODP 3600 Values'!E34)","v":315433.40380549687},{"$f":"($A37*0.746*$K$6*$K$7)/('ODP 3600 Values'!G34)","v":311482.254697286},3951.1491082108696]
[]
["Please see the following \"Values\" sheet for efficiency data and descriptions."]
["x: efficiency value not established at this speed and enclosure type."]

{"sheet":"ODP 3600 Values","index":12,"n_rows":34,"n_cols":16,"rows_kept":34,"cut":false,"hidden":false,"merged":[[4,3,5,3],[39,0,39,5],[37,6,37,9],[38,6,38,9],[39,6,39,9],[37,0,37,5],[38,0,38,5],[0,0,2,20],[10,14,15,19],[16,8,24,13],[16,14,24,19],[25,8,30,13],[25,14,30,19],[4,8,9,13],[4,14,9,19],[10,8,15,13],[4,4,5,4],[4,5,5,5],[4,6,5,6],[26,3,27,3],[26,4,27,4],[26,5,27,5],[26,6,27,6]]}
["Efficiency Values Used to Estimate Annual Energy Savings\n       ODP    ·    3600 RPM    ·    Full-load Operation    ·    Nominal Efficiency                                \nEstimated Annual Energy Cost = (horsepower x annual operating hours x cost of electricity x 0.746) / (efficiency)"]
[]
[]
[]
[null,null,null,"Size (hp)","Pre-EPAct","EPAct","EISA",null,"Pre-Energy Policy Act (Pre-EPAct) refers to efficiency levels lower than the federal nominal efficiency standards established by EPAct. Pre-EPAct efficiency levels are an estimated average of nominal efficiency for motors manufactured before the EPAct standards. Pre-EPAct efficiency is calculated by the Department of Energy and used in the MotorMaster+ tool (v 4.01.01, September 2010).",null,null,null,null,null,"For more information, see: http://www1.eere.energy.gov/industry/bestpractices/software_motormaster.html"]
[]
[null,null,null,1,76.19,"x",77]
[null,null,null,1.5,77.25,82.5,84]
[null,null,null,2,79.56,84,85.5]
[null,null,null,3,79.08,84,85.5]
[null,null,null,5,82.57,85.5,86.5,null,"Energy Policy Act (EPAct) refers to the federal nominal efficiency levels established by the 1992 Energy Policy Act, which became effective in 1997. EPAct established federal nominal efficiency standards for 1-200 hp general purpose motors 1200rpm, 1800 rpm, and 3600 rpm. EPAct efficiency is equivalent to NEMA MG1-2007 Table 12-11 for 1-200 hp motors. EPAct did not establish efficiency standards for 201-500 hp motors. ",null,null,null,null,null,"For more information, see:\nhttp://www1.eere.energy.gov/industry/bestpractices/pdfs/e-pact92.pdf"]
[null,null,null,7.5,82.87,87.5,88.5]
[null,null,null,10,85.02,88.5,89.5]
[null,null,null,15,86.63,89.5,90.2]
[null,null,null,20,88.13,90.2,91]
[null,null,null,25,88.45,91,91.7]
[null,null,null,30,87.73,91,91.7,null,"Energy Independence and Security Act (EISA) refers to the federal nominal efficiency standards established by the 2007 Energy Independence and Security Act, which became effective December 2010. For 1-200 hp general purpose motors 1200 rpm, 1800 rpm, 3600 rpm, EISA is equivalent to NEMA Premium®.* For 201-500 hp motors EISA established different federal nominal efficiency standards, which are equivalent to NEMA MG1-2007 Table 12-11. For 201-500 hp NEMA Premium nominal efficiency levels meet or exceed NEMA MG1-2007, Table 12-12.",null,null,null,null,null,"For more information, see:  http://www1.eere.energy.gov/buildings/appliance_standards/commercial/electric_motors.html"]
[null,null,null,40,88.57,91.7,92.4]
[null,null,null,50,89.06,92.4,93]
[null,null,null,60,90.38,93,93.6]
[null,null,null,75,90.36,93,93.6]
[null,null,null,100,90.53,93,93.6]
[null,null,null,125,91.22,93.6,94.1]
[null,null,null,150,91.68,93.6,94.1]
[null,null,null,200,91.54,94.5,95]
[null,null,null,null,null,null,null,null,"Above EISA refers to efficiency levels that exceed the EISA federal standards. For 201-500 hp general purpose motors 1200 rpm, 1800 rpm, 3600 rpm, Above EISA is equivalent to NEMA Premium,* with nominal efficiency levels that meet or exceed NEMA MG1-2007, Table 12-12. ",null,null,null,null,null,"For more information, see:\nhttp://www.nema.org/stds/mg1.cfm"]
[null,null,null,"Size (hp)","Pre-EPAct","EISA","Above EISA"]
[]
[null,null,null,250,92.99,94.5,95]
[null,null,null,300,93.89,95,95.4]
[null,null,null,350,94.24,95,95.4]
[null,null,null,400,94.35,95.4,95.8]
[null,null,null,450,94.62,95.8,95.8,null,"*NEMA Premium is a trademark owned by the National Electrical Manufacturers Association,",null,null,null,null,null,null,"www.nema.org"]
[null,null,null,500,94.6,95.8,95.8,null,"x: efficiency value not established at this speed and enclosure type."]